BEGIN:VCALENDAR
VERSION:2.0
PRODID:-//Cincinnati Parks Foundation - ECPv6.15.20//NONSGML v1.0//EN
CALSCALE:GREGORIAN
METHOD:PUBLISH
X-WR-CALNAME:Cincinnati Parks Foundation
X-ORIGINAL-URL:https://cincinnatiparksfoundation.org
X-WR-CALDESC:Events for Cincinnati Parks Foundation
REFRESH-INTERVAL;VALUE=DURATION:PT1H
X-Robots-Tag:noindex
X-PUBLISHED-TTL:PT1H
BEGIN:VTIMEZONE
TZID:UTC
BEGIN:STANDARD
TZOFFSETFROM:+0000
TZOFFSETTO:+0000
TZNAME:UTC
DTSTART:20240101T000000
END:STANDARD
END:VTIMEZONE
BEGIN:VEVENT
DTSTART;TZID=UTC:20250725T180000
DTEND;TZID=UTC:20250725T220000
DTSTAMP:20260424T175214
CREATED:20250506T215302Z
LAST-MODIFIED:20250506T215302Z
UID:5652-1753466400-1753480800@cincinnatiparksfoundation.org
SUMMARY:Gettin' to the Point
DESCRIPTION:Get ready\, Cincinnati! Gettin’ to the Point is bringing the best local bands to the Schott Amphitheater at Sawyer Point for a concert series that sets the stage for something BIG! \nThis Electrifying event is your chance to discover homegrown talent as we build up to On Point Music Festival. Food\, drinks\, and good vibes available at venue. \nHere’s The Lineup for summer 2025! \n5/23/2025 from 6pm-10pm: Dead Humor / The Dreaded Mids \n6/6/2025 from 7pm-10pm: Jake Speed and the Freddies \n6/20/2025 from 6pm-10pm: Phanta / The Tangees \n7/11/2025 from 6pm-10pm: The Foles / Moonshine Drive \n7/25/2025 from 6pm-10pm: Anno / Fast Travel
URL:https://cincinnatiparksfoundation.org/event/gettin-to-the-point-5/
LOCATION:Schott Amphitheater\, Sawyer Point\, 705 E Pete Rose Way\, Cincinnati\, OH\, 45202\, United States
CATEGORIES:music,Sawyer Point
END:VEVENT
BEGIN:VEVENT
DTSTART;TZID=UTC:20250711T180000
DTEND;TZID=UTC:20250711T220000
DTSTAMP:20260424T175214
CREATED:20250506T215144Z
LAST-MODIFIED:20250506T215144Z
UID:5650-1752256800-1752271200@cincinnatiparksfoundation.org
SUMMARY:Gettin' to the Point
DESCRIPTION:Get ready\, Cincinnati! Gettin’ to the Point is bringing the best local bands to the Schott Amphitheater at Sawyer Point for a concert series that sets the stage for something BIG! \nThis Electrifying event is your chance to discover homegrown talent as we build up to On Point Music Festival. Food\, drinks\, and good vibes available at venue. \nHere’s The Lineup for summer 2025! \n5/23/2025 from 6pm-10pm: Dead Humor / The Dreaded Mids \n6/6/2025 from 7pm-10pm: Jake Speed and the Freddies \n6/20/2025 from 6pm-10pm: Phanta / The Tangees \n7/11/2025 from 6pm-10pm: The Foles / Moonshine Drive \n7/25/2025 from 6pm-10pm: Anno / Fast Travel
URL:https://cincinnatiparksfoundation.org/event/gettin-to-the-point-4/
LOCATION:Schott Amphitheater\, Sawyer Point\, 705 E Pete Rose Way\, Cincinnati\, OH\, 45202\, United States
CATEGORIES:music,Sawyer Point
END:VEVENT
BEGIN:VEVENT
DTSTART;TZID=UTC:20250705T140000
DTEND;TZID=UTC:20250705T150000
DTSTAMP:20260424T175214
CREATED:20250523T231938Z
LAST-MODIFIED:20250523T231938Z
UID:5836-1751724000-1751727600@cincinnatiparksfoundation.org
SUMMARY:Kids Dance with Sarah Spurling
DESCRIPTION:2:00 PM  3:00 PM\nAn energizing and engaging weekly class for kids ages 11 and under to practice mindful movement\, self-expression\, and physical language.  Teacher: Sarah Spurling \nWeekly on Sundays from 2-3pm running May 18 through November 2\, 2025  \nat the Sawyer Point Riverfront Rink just between the pickle ball courts and Montgomery Inn. \n925 Riverside Dr. Cincinnati Ohio 45202 \nThis weekly wellness program is FREE thanks to support from Cincinnati Parks\, Cincinnati Parks Foundation\, and Osher Center for Integrative Health as part of Cincy Parks + Rec for Wellness.
URL:https://cincinnatiparksfoundation.org/event/kids-dance-with-sarah-spurling-6/
LOCATION:Sawyer Point Riverfront Rink\, 925 Riverside Drive\, Cincinnati\, OH\, 45202\, United States
CATEGORIES:Cincinnati Parks + Rec for Wellness,dance,Sawyer Point,Skate Downtown Cincy
ATTACH;FMTTYPE=image/jpeg:https://cincinnatiparksfoundation.org/wp-content/uploads/2025/05/KidsDance.jpg
ORGANIZER;CN="Cincinnati Parks Foundation":MAILTO:colleen@cincinnatiparksfoundation.org
END:VEVENT
BEGIN:VEVENT
DTSTART;TZID=UTC:20250628T140000
DTEND;TZID=UTC:20250628T150000
DTSTAMP:20260424T175214
CREATED:20250523T231522Z
LAST-MODIFIED:20250523T231522Z
UID:5834-1751119200-1751122800@cincinnatiparksfoundation.org
SUMMARY:Kids Dance with Sara Spurling
DESCRIPTION:2:00 PM  3:00 PM\nAn energizing and engaging weekly class for kids ages 11 and under to practice mindful movement\, self-expression\, and physical language.  Teacher: Sarah Spurling \nWeekly on Sundays from 2-3pm running May 18 through November 2\, 2025  \nat the Sawyer Point Riverfront Rink just between the pickle ball courts and Montgomery Inn. \n925 Riverside Dr. Cincinnati Ohio 45202 \nThis weekly wellness program is FREE thanks to support from Cincinnati Parks\, Cincinnati Parks Foundation\, and Osher Center for Integrative Health as part of Cincy Parks + Rec for Wellness.
URL:https://cincinnatiparksfoundation.org/event/kids-dance-with-sara-spurling-2/
LOCATION:Sawyer Point Riverfront Rink\, 925 Riverside Drive\, Cincinnati\, OH\, 45202\, United States
CATEGORIES:Cincy Parks & Rec for Wellness,dance,Sawyer Point,Skate Downtown Cincy
ATTACH;FMTTYPE=image/jpeg:https://cincinnatiparksfoundation.org/wp-content/uploads/2025/05/KidsDance.jpg
ORGANIZER;CN="Cincinnati Parks Foundation":MAILTO:colleen@cincinnatiparksfoundation.org
END:VEVENT
BEGIN:VEVENT
DTSTART;TZID=UTC:20250628T140000
DTEND;TZID=UTC:20250628T150000
DTSTAMP:20260424T175214
CREATED:20250522T214936Z
LAST-MODIFIED:20250522T214936Z
UID:5831-1751119200-1751122800@cincinnatiparksfoundation.org
SUMMARY:Kids Dance with Sarah Spurling
DESCRIPTION:Kids Dance with Sarah Spurling \n2:00 PM  3:00 PM\nAn energizing and engaging weekly class for kids ages 11 and under to practice mindful movement\, self-expression\, and physical language.  Teacher: Sarah Spurling \nWeekly on Sundays from 2-3pm running May 18 through November 2\, 2025  \nat the Sawyer Point Riverfront Rink just between the pickle ball courts and Montgomery Inn. \n925 Riverside Dr. Cincinnati Ohio 45202 \nThis weekly wellness program is FREE thanks to support from Cincinnati Parks\, Cincinnati Parks Foundation\, and Osher Center for Integrative Health as part of Cincy Parks + Rec for Wellness.
URL:https://cincinnatiparksfoundation.org/event/kids-dance-with-sarah-spurling-5/
LOCATION:Sawyer Point Riverfront Rink\, 925 Riverside Drive\, Cincinnati\, OH\, 45202\, United States
CATEGORIES:Cincinnati Parks + Rec for Wellness,dance,Kids,Sawyer Point,Skate Downtown Cincy
ATTACH;FMTTYPE=image/jpeg:https://cincinnatiparksfoundation.org/wp-content/uploads/2025/05/KidsDance.jpg
ORGANIZER;CN="Cincinnati Parks Foundation":MAILTO:colleen@cincinnatiparksfoundation.org
END:VEVENT
BEGIN:VEVENT
DTSTART;TZID=UTC:20250621T140000
DTEND;TZID=UTC:20250621T150000
DTSTAMP:20260424T175214
CREATED:20250522T214703Z
LAST-MODIFIED:20250522T214703Z
UID:5829-1750514400-1750518000@cincinnatiparksfoundation.org
SUMMARY:Kids Dance with Sarah Spurling
DESCRIPTION:Kids Dance with Sarah Spurling \n2:00 PM  3:00 PM\nAn energizing and engaging weekly class for kids ages 11 and under to practice mindful movement\, self-expression\, and physical language.  Teacher: Sarah Spurling \nWeekly on Sundays from 2-3pm running May 18 through November 2\, 2025  \nat the Sawyer Point Riverfront Rink just between the pickle ball courts and Montgomery Inn. \n925 Riverside Dr. Cincinnati Ohio 45202 \nThis weekly wellness program is FREE thanks to support from Cincinnati Parks\, Cincinnati Parks Foundation\, and Osher Center for Integrative Health as part of Cincy Parks + Rec for Wellness.
URL:https://cincinnatiparksfoundation.org/event/kids-dance-with-sarah-spurling-4/
LOCATION:Sawyer Point Riverfront Rink\, 925 Riverside Drive\, Cincinnati\, OH\, 45202\, United States
CATEGORIES:Cincinnati Parks + Rec for Wellness,dance,Kids,Sawyer Point,Skate Downtown Cincy
ATTACH;FMTTYPE=image/jpeg:https://cincinnatiparksfoundation.org/wp-content/uploads/2025/05/KidsDance.jpg
ORGANIZER;CN="Cincinnati Parks Foundation":MAILTO:colleen@cincinnatiparksfoundation.org
END:VEVENT
BEGIN:VEVENT
DTSTART;TZID=UTC:20250620T180000
DTEND;TZID=UTC:20250620T200000
DTSTAMP:20260424T175214
CREATED:20250506T212549Z
LAST-MODIFIED:20250506T212549Z
UID:5647-1750442400-1750449600@cincinnatiparksfoundation.org
SUMMARY:Gettin' to the Point
DESCRIPTION:Get ready\, Cincinnati! Gettin’ to the Point is bringing the best local bands to the Schott Amphitheater at Sawyer Point for a concert series that sets the stage for something BIG! \nThis Electrifying event is your chance to discover homegrown talent as we build up to On Point Music Festival. Food\, drinks\, and good vibes available at venue. \nHere’s The Lineup for summer 2025! \n5/23/2025 from 6pm-10pm: Dead Humor / The Dreaded Mids \n6/6/2025 from 7pm-10pm: Jake Speed and the Freddies \n6/20/2025 from 6pm-10pm: Phanta / The Tangees \n7/11/2025 from 6pm-10pm: The Foles / Moonshine Drive \n7/25/2025 from 6pm-10pm: Anno / Fast Travel
URL:https://cincinnatiparksfoundation.org/event/gettin-to-the-point-3/
LOCATION:Schott Amphitheater\, Sawyer Point\, 705 E Pete Rose Way\, Cincinnati\, OH\, 45202\, United States
CATEGORIES:music,Sawyer Point
END:VEVENT
BEGIN:VEVENT
DTSTART;TZID=UTC:20250614T140000
DTEND;TZID=UTC:20250614T150000
DTSTAMP:20260424T175214
CREATED:20250522T214523Z
LAST-MODIFIED:20250522T214523Z
UID:5827-1749909600-1749913200@cincinnatiparksfoundation.org
SUMMARY:Kids Dance with Sarah Spurling
DESCRIPTION:Kids Dance with Sarah Spurling \n2:00 PM  3:00 PM\nAn energizing and engaging weekly class for kids ages 11 and under to practice mindful movement\, self-expression\, and physical language.  Teacher: Sarah Spurling \nWeekly on Sundays from 2-3pm running May 18 through November 2\, 2025  \nat the Sawyer Point Riverfront Rink just between the pickle ball courts and Montgomery Inn. \n925 Riverside Dr. Cincinnati Ohio 45202 \nThis weekly wellness program is FREE thanks to support from Cincinnati Parks\, Cincinnati Parks Foundation\, and Osher Center for Integrative Health as part of Cincy Parks + Rec for Wellness.
URL:https://cincinnatiparksfoundation.org/event/kids-dance-with-sarah-spurling-3/
LOCATION:Sawyer Point Riverfront Rink\, 925 Riverside Drive\, Cincinnati\, OH\, 45202\, United States
CATEGORIES:Cincinnati Parks + Rec for Wellness,dance,Kids,Sawyer Point,Skate Downtown Cincy
ATTACH;FMTTYPE=image/jpeg:https://cincinnatiparksfoundation.org/wp-content/uploads/2025/05/KidsDance.jpg
ORGANIZER;CN="Cincinnati Parks Foundation":MAILTO:colleen@cincinnatiparksfoundation.org
END:VEVENT
BEGIN:VEVENT
DTSTART;TZID=UTC:20250607T140000
DTEND;TZID=UTC:20250607T150000
DTSTAMP:20260424T175214
CREATED:20250522T214138Z
LAST-MODIFIED:20250522T214138Z
UID:5825-1749304800-1749308400@cincinnatiparksfoundation.org
SUMMARY:Kids Dance with Sarah Spurling
DESCRIPTION:Kids Dance with Sarah Spurling \n2:00 PM  3:00 PM\nAn energizing and engaging weekly class for kids ages 11 and under to practice mindful movement\, self-expression\, and physical language.  Teacher: Sarah Spurling \nWeekly on Sundays from 2-3pm running May 18 through November 2\, 2025  \nat the Sawyer Point Riverfront Rink just between the pickle ball courts and Montgomery Inn. \n925 Riverside Dr. Cincinnati Ohio 45202 \nThis weekly wellness program is FREE thanks to support from Cincinnati Parks\, Cincinnati Parks Foundation\, and Osher Center for Integrative Health as part of Cincy Parks + Rec for Wellness.
URL:https://cincinnatiparksfoundation.org/event/kids-dance-with-sarah-spurling-2/
LOCATION:Sawyer Point Riverfront Rink\, 925 Riverside Drive\, Cincinnati\, OH\, 45202\, United States
CATEGORIES:Cincinnati Parks + Rec for Wellness,dance,Kids,Sawyer Point,Skate Downtown Cincy
ATTACH;FMTTYPE=image/jpeg:https://cincinnatiparksfoundation.org/wp-content/uploads/2025/05/KidsDance.jpg
ORGANIZER;CN="Cincinnati Parks Foundation":MAILTO:colleen@cincinnatiparksfoundation.org
END:VEVENT
BEGIN:VEVENT
DTSTART;TZID=UTC:20250531T140000
DTEND;TZID=UTC:20250531T150000
DTSTAMP:20260424T175214
CREATED:20250522T213955Z
LAST-MODIFIED:20250522T213955Z
UID:5823-1748700000-1748703600@cincinnatiparksfoundation.org
SUMMARY:Kids Dance with Sarah Spurling
DESCRIPTION:Kids Dance with Sarah Spurling \n2:00 PM  3:00 PM\nAn energizing and engaging weekly class for kids ages 11 and under to practice mindful movement\, self-expression\, and physical language.  Teacher: Sarah Spurling \nWeekly on Sundays from 2-3pm running May 18 through November 2\, 2025  \nat the Sawyer Point Riverfront Rink just between the pickle ball courts and Montgomery Inn. \n925 Riverside Dr. Cincinnati Ohio 45202 \nThis weekly wellness program is FREE thanks to support from Cincinnati Parks\, Cincinnati Parks Foundation\, and Osher Center for Integrative Health as part of Cincy Parks + Rec for Wellness.
URL:https://cincinnatiparksfoundation.org/event/kids-dance-with-sarah-spurling/
LOCATION:Sawyer Point Riverfront Rink\, 925 Riverside Drive\, Cincinnati\, OH\, 45202\, United States
CATEGORIES:dance,Kids,Sawyer Point,Skate Downtown Cincy
ATTACH;FMTTYPE=image/jpeg:https://cincinnatiparksfoundation.org/wp-content/uploads/2025/05/KidsDance.jpg
ORGANIZER;CN="Cincinnati Parks Foundation":MAILTO:colleen@cincinnatiparksfoundation.org
END:VEVENT
BEGIN:VEVENT
DTSTART;TZID=UTC:20250524T140000
DTEND;TZID=UTC:20250524T150000
DTSTAMP:20260424T175214
CREATED:20250522T213652Z
LAST-MODIFIED:20250522T213652Z
UID:5820-1748095200-1748098800@cincinnatiparksfoundation.org
SUMMARY:Kids Dance with Sara Spurling
DESCRIPTION:Kids Dance with Sarah Spurling \nSaturday\, May 24\, 2025\n2:00 PM  3:00 PM\nAn energizing and engaging weekly class for kids ages 11 and under to practice mindful movement\, self-expression\, and physical language.  Teacher: Sarah Spurling \nWeekly on Sundays from 2-3pm running May 18 through November 2\, 2025  \nat the Sawyer Point Riverfront Rink just between the pickle ball courts and Montgomery Inn. \n925 Riverside Dr. Cincinnati Ohio 45202 \nThis weekly wellness program is FREE thanks to support from Cincinnati Parks\, Cincinnati Parks Foundation\, and Osher Center for Integrative Health as part of Cincy Parks + Rec for Wellness.
URL:https://cincinnatiparksfoundation.org/event/kids-dance-with-sara-spurling/
LOCATION:Sawyer Point Riverfront Rink\, 925 Riverside Drive\, Cincinnati\, OH\, 45202\, United States
CATEGORIES:Cincinnati Parks + Rec for Wellness,dance,Kids,Sawyer Point,Skate Downtown Cincy
ATTACH;FMTTYPE=image/jpeg:https://cincinnatiparksfoundation.org/wp-content/uploads/2025/05/KidsDance.jpg
ORGANIZER;CN="Cincinnati Parks Foundation":MAILTO:colleen@cincinnatiparksfoundation.org
END:VEVENT
BEGIN:VEVENT
DTSTART;TZID=UTC:20250523T180000
DTEND;TZID=UTC:20250523T220000
DTSTAMP:20260424T175214
CREATED:20250506T212155Z
LAST-MODIFIED:20250506T215353Z
UID:5642-1748023200-1748037600@cincinnatiparksfoundation.org
SUMMARY:Gettin' To the Point
DESCRIPTION:Get ready\, Cincinnati! Gettin’ to the Point is bringing the best local bands to the Schott Amphitheater at Sawyer Point for a concert series that sets the stage for something BIG! \nThis Electrifying event is your chance to discover homegrown talent as we build up to On Point Music Festival. Food\, drinks\, and good vibes available at venue. \nHere’s The Lineup for summer 2025! \n5/23/2025 from 6pm-10pm: Dead Humor / The Dreaded Mids \n6/6/2025 from 7pm-10pm: Jake Speed and the Freddies \n6/20/2025 from 6pm-10pm: Phanta / The Tangees \n7/11/2025 from 6pm-10pm: The Foles / Moonshine Drive \n7/25/2025 from 6pm-10pm: Anno / Fast Travel
URL:https://cincinnatiparksfoundation.org/event/gettin-to-the-point/
LOCATION:Schott Amphitheater\, Sawyer Point\, 705 E Pete Rose Way\, Cincinnati\, OH\, 45202\, United States
CATEGORIES:music,Sawyer Point
END:VEVENT
BEGIN:VEVENT
DTSTART;TZID=UTC:20250518T120000
DTEND;TZID=UTC:20250518T140000
DTSTAMP:20260424T175214
CREATED:20250327T225934Z
LAST-MODIFIED:20250416T055647Z
UID:5304-1747569600-1747576800@cincinnatiparksfoundation.org
SUMMARY:obLITTERators
DESCRIPTION:Join the obLITTERators and volunteers with Skate Downtown Cincy for a clean up around the Sawyer Point Riverfront Rink\, just in time for the outdoor roller skating season to begin
URL:https://cincinnatiparksfoundation.org/event/oblitterators/
LOCATION:Sawyer Point Riverfront Rink\, 925 Riverside Drive\, Cincinnati\, OH\, 45202\, United States
CATEGORIES:obLITTERators,Sawyer Point,Volunteer
ORGANIZER;CN="Cincinnati Parks Foundation":MAILTO:colleen@cincinnatiparksfoundation.org
END:VEVENT
BEGIN:VEVENT
DTSTART;TZID=UTC:20250427T150000
DTEND;TZID=UTC:20250427T170000
DTSTAMP:20260424T175214
CREATED:20250327T205551Z
LAST-MODIFIED:20250416T055935Z
UID:5296-1745766000-1745773200@cincinnatiparksfoundation.org
SUMMARY:Roller Skate Maintenance Day
DESCRIPTION:
URL:https://cincinnatiparksfoundation.org/event/roller-skate-maintenance-day/
LOCATION:Sawyer Point Riverfront Rink\, 925 Riverside Drive\, Cincinnati\, OH\, 45202\, United States
CATEGORIES:Free Neighborhood Event,Roller Skating,Sawyer Point
END:VEVENT
END:VCALENDAR