BEGIN:VCALENDAR
VERSION:2.0
PRODID:-//Cincinnati Parks Foundation - ECPv6.15.20//NONSGML v1.0//EN
CALSCALE:GREGORIAN
METHOD:PUBLISH
X-ORIGINAL-URL:https://cincinnatiparksfoundation.org
X-WR-CALDESC:Events for Cincinnati Parks Foundation
REFRESH-INTERVAL;VALUE=DURATION:PT1H
X-Robots-Tag:noindex
X-PUBLISHED-TTL:PT1H
BEGIN:VTIMEZONE
TZID:UTC
BEGIN:STANDARD
TZOFFSETFROM:+0000
TZOFFSETTO:+0000
TZNAME:UTC
DTSTART:20240101T000000
END:STANDARD
END:VTIMEZONE
BEGIN:VEVENT
DTSTART;TZID=UTC:20250927T100000
DTEND;TZID=UTC:20250927T113000
DTSTAMP:20260424T154023
CREATED:20250522T210942Z
LAST-MODIFIED:20250522T210942Z
UID:5815-1758967200-1758972600@cincinnatiparksfoundation.org
SUMMARY:Let's Hike in Mt Airy Forest with Amy Tobin
DESCRIPTION:All are welcome to join Amy Tobin and friends for a hike through Mt. Airy Forest\, starting at 10am. Meet at the Mt. Airy Arboretum!  \nThis hike is part of the Cincinnati Parks & Rec for Wellness Program. \nClick here to RSVP: https://www.eventbrite.com/cc/cincinnati-parks-rec-for-wellness-hiking-series-4330483
URL:https://cincinnatiparksfoundation.org/event/lets-hike-in-mt-airy-forest-with-amy-tobin/
LOCATION:Mt. Airy Arboretum\, 5190 Arboretun Road\, Cincinnati\, OH\, 45223\, United States
CATEGORIES:Amy Tobin,Cincinnati Parks + Rec for Wellness,Hiking,Mt. Airy Arboretum,Mt. Airy Forest
ATTACH;FMTTYPE=image/jpeg:https://cincinnatiparksfoundation.org/wp-content/uploads/2025/05/2-2-5.jpg
ORGANIZER;CN="Cincinnati Parks Foundation":MAILTO:colleen@cincinnatiparksfoundation.org
END:VEVENT
END:VCALENDAR