BEGIN:VCALENDAR
VERSION:2.0
PRODID:-//Cincinnati Parks Foundation - ECPv6.15.20//NONSGML v1.0//EN
CALSCALE:GREGORIAN
METHOD:PUBLISH
X-WR-CALNAME:Cincinnati Parks Foundation
X-ORIGINAL-URL:https://cincinnatiparksfoundation.org
X-WR-CALDESC:Events for Cincinnati Parks Foundation
REFRESH-INTERVAL;VALUE=DURATION:PT1H
X-Robots-Tag:noindex
X-PUBLISHED-TTL:PT1H
BEGIN:VTIMEZONE
TZID:America/New_York
BEGIN:DAYLIGHT
TZOFFSETFROM:-0500
TZOFFSETTO:-0400
TZNAME:EDT
DTSTART:20240310T070000
END:DAYLIGHT
BEGIN:STANDARD
TZOFFSETFROM:-0400
TZOFFSETTO:-0500
TZNAME:EST
DTSTART:20241103T060000
END:STANDARD
BEGIN:DAYLIGHT
TZOFFSETFROM:-0500
TZOFFSETTO:-0400
TZNAME:EDT
DTSTART:20250309T070000
END:DAYLIGHT
BEGIN:STANDARD
TZOFFSETFROM:-0400
TZOFFSETTO:-0500
TZNAME:EST
DTSTART:20251102T060000
END:STANDARD
BEGIN:DAYLIGHT
TZOFFSETFROM:-0500
TZOFFSETTO:-0400
TZNAME:EDT
DTSTART:20260308T070000
END:DAYLIGHT
BEGIN:STANDARD
TZOFFSETFROM:-0400
TZOFFSETTO:-0500
TZNAME:EST
DTSTART:20261101T060000
END:STANDARD
END:VTIMEZONE
BEGIN:VEVENT
DTSTART;TZID=America/New_York:20250813T120000
DTEND;TZID=America/New_York:20250813T130000
DTSTAMP:20260424T165121
CREATED:20250624T134612Z
LAST-MODIFIED:20250628T012235Z
UID:6098-1755086400-1755090000@cincinnatiparksfoundation.org
SUMMARY:Yoga in Lytle Park with the Taft Museum and Brandi Colvin
DESCRIPTION:Join us on Wednesdays\, July 9 through October 15 at Lytle Park for yoga with Brandi Colvin\, followed by restorative\, meditative walks with the Taft Museum of Art. \nWednesdays | July 9-October 15\n12:00 PM (except 5:30 PM on July 9 and July 16 \nThis outdoor experience is designed to calm the milk\, move the body and invite moments of reflection–right in the heart of downtown. All are welcome. No experience necessary. \nThis yoga series of part of our Parks + Rec for Wellness program.
URL:https://cincinnatiparksfoundation.org/event/yoga-in-lytle-park-with-the-taft-museum-and-brandi-corbin-6/
LOCATION:Lytle Park\, 501 E. 4th Street\, Cincinnati\, OH\, 45202\, United States
CATEGORIES:Brandi Colvin,Cincinnati Parks + Rec for Wellness,Lytle Park,The Taft Museum,yoga
ATTACH;FMTTYPE=image/png:https://cincinnatiparksfoundation.org/wp-content/uploads/2025/06/Screenshot-2025-06-02-at-12.18.17 PM.png
END:VEVENT
BEGIN:VEVENT
DTSTART;TZID=America/New_York:20250806T120000
DTEND;TZID=America/New_York:20250806T130000
DTSTAMP:20260424T165121
CREATED:20250624T134412Z
LAST-MODIFIED:20250628T012322Z
UID:6096-1754481600-1754485200@cincinnatiparksfoundation.org
SUMMARY:Yoga in Lytle Park with the Taft Museum and Brandi Colvin
DESCRIPTION:Join us on Wednesdays\, July 9 through October 15 at Lytle Park for yoga with Brandi Colvin\, followed by restorative\, meditative walks with the Taft Museum of Art. \nWednesdays | July 9-October 15\n12:00 PM (except 5:30 PM on July 9 and July 16 \nThis outdoor experience is designed to calm the milk\, move the body and invite moments of reflection–right in the heart of downtown. All are welcome. No experience necessary. \nThis yoga series of part of our Parks + Rec for Wellness program.
URL:https://cincinnatiparksfoundation.org/event/yoga-in-lytle-park-with-the-taft-museum-and-brandi-corbin-5/
LOCATION:Lytle Park\, 501 E. 4th Street\, Cincinnati\, OH\, 45202\, United States
CATEGORIES:Brandi Colvin,Lytle Park,The Taft Museum,yoga
ATTACH;FMTTYPE=image/png:https://cincinnatiparksfoundation.org/wp-content/uploads/2025/06/Screenshot-2025-06-02-at-12.18.17 PM.png
END:VEVENT
BEGIN:VEVENT
DTSTART;TZID=America/New_York:20250730T120000
DTEND;TZID=America/New_York:20250730T130000
DTSTAMP:20260424T165121
CREATED:20250624T134111Z
LAST-MODIFIED:20250628T012407Z
UID:6094-1753876800-1753880400@cincinnatiparksfoundation.org
SUMMARY:Yoga in Lytle Park with the Taft Museum and Brandi Colvin
DESCRIPTION:Join us on Wednesdays\, July 9 through October 15 at Lytle Park for yoga with Brandi Colvin\, followed by restorative\, meditative walks with the Taft Museum of Art. \nWednesdays | July 9-October 15\n12:00 PM (except 5:30 PM on July 9 and July 16 \nThis outdoor experience is designed to calm the milk\, move the body and invite moments of reflection–right in the heart of downtown. All are welcome. No experience necessary. \nThis yoga series of part of our Parks + Rec for Wellness program.
URL:https://cincinnatiparksfoundation.org/event/yoga-in-lytle-park-with-the-taft-museum-and-brandi-corbin-4/
LOCATION:Lytle Park\, 501 E. 4th Street\, Cincinnati\, OH\, 45202\, United States
CATEGORIES:Brandi Colvin,Cincinnati Parks + Rec for Wellness,Lytle Park,The Taft Museum,yoga
ATTACH;FMTTYPE=image/png:https://cincinnatiparksfoundation.org/wp-content/uploads/2025/06/Screenshot-2025-06-02-at-12.18.17 PM.png
END:VEVENT
BEGIN:VEVENT
DTSTART;TZID=America/New_York:20250723T120000
DTEND;TZID=America/New_York:20250723T130000
DTSTAMP:20260424T165121
CREATED:20250624T133924Z
LAST-MODIFIED:20250628T012447Z
UID:6092-1753272000-1753275600@cincinnatiparksfoundation.org
SUMMARY:Yoga in Lytle Park with the Taft Museum and Brandi Colvin
DESCRIPTION:Join us on Wednesdays\, July 9 through October 15 at Lytle Park for yoga with Brandi Colvin\, followed by restorative\, meditative walks with the Taft Museum of Art. \nWednesdays | July 9-October 15\n12:00 PM (except 5:30 PM on July 9 and July 16 \nThis outdoor experience is designed to calm the milk\, move the body and invite moments of reflection–right in the heart of downtown. All are welcome. No experience necessary. \nThis yoga series of part of our Parks + Rec for Wellness program.
URL:https://cincinnatiparksfoundation.org/event/yoga-in-lytle-park-with-the-taft-museum-and-brandi-corbin-3/
LOCATION:Lytle Park\, 501 E. 4th Street\, Cincinnati\, OH\, 45202\, United States
CATEGORIES:Brandi Colvin,Lytle Park,The Taft Museum,yoga
ATTACH;FMTTYPE=image/png:https://cincinnatiparksfoundation.org/wp-content/uploads/2025/06/Screenshot-2025-06-02-at-12.18.17 PM.png
END:VEVENT
BEGIN:VEVENT
DTSTART;TZID=America/New_York:20250716T173000
DTEND;TZID=America/New_York:20250716T183000
DTSTAMP:20260424T165121
CREATED:20250624T133729Z
LAST-MODIFIED:20250712T020706Z
UID:6090-1752687000-1752690600@cincinnatiparksfoundation.org
SUMMARY:Yoga in Lytle Park with the Taft Museum and Brandi Bee
DESCRIPTION:Join us on Wednesdays\, July 9 through October 15 at Lytle Park for yoga with Brandi Colvin\, followed by restorative\, meditative walks with the Taft Museum of Art. \nWednesdays | July 9-October 15\n12:00 PM (except 5:30 PM on July 9 and July 16 \nThis outdoor experience is designed to calm the milk\, move the body and invite moments of reflection–right in the heart of downtown. All are welcome. No experience necessary. \nThis yoga series of part of our Parks + Rec for Wellness program.
URL:https://cincinnatiparksfoundation.org/event/yoga-in-lytle-park-with-the-taft-museum-and-brandi-corbin-2/
LOCATION:Lytle Park\, 501 E. 4th Street\, Cincinnati\, OH\, 45202\, United States
CATEGORIES:Brandi Colvin,Cincy Parks & Rec for Wellness,Lytle Park,The Taft Museum,yoga
ATTACH;FMTTYPE=image/png:https://cincinnatiparksfoundation.org/wp-content/uploads/2025/06/Screenshot-2025-06-02-at-12.18.17 PM.png
END:VEVENT
BEGIN:VEVENT
DTSTART;TZID=America/New_York:20250709T173000
DTEND;TZID=America/New_York:20250709T183000
DTSTAMP:20260424T165121
CREATED:20250624T133453Z
LAST-MODIFIED:20250628T011450Z
UID:6080-1752082200-1752085800@cincinnatiparksfoundation.org
SUMMARY:Yoga in Lytle Park with the Taft Museum and Brandi Colvin
DESCRIPTION:Join us on Wednesdays\, July 9 through October 15 at Lytle Park for yoga with Brandi Colvin\, followed by restorative\, meditative walks with the Taft Museum of Art. \nWednesdays | July 9-October 15\n12:00 PM (except 5:30 PM on July 9 and July 16) \nThis outdoor experience is designed to calm the mind\, move the body and invite moments of reflection–right in the heart of downtown. All are welcome. No experience necessary. \nThis yoga series of part of our Parks + Rec for Wellness program.
URL:https://cincinnatiparksfoundation.org/event/yoga-in-lytle-park-with-the-taft-museum-and-brandi-corbin/
LOCATION:Lytle Park\, 501 E. 4th Street\, Cincinnati\, OH\, 45202\, United States
CATEGORIES:Brandi Colvin,Cincinnati Parks + Rec for Wellness,Lytle Park,The Taft Museum,yoga
ATTACH;FMTTYPE=image/png:https://cincinnatiparksfoundation.org/wp-content/uploads/2025/06/Screenshot-2025-06-02-at-12.18.17 PM.png
END:VEVENT
END:VCALENDAR