BEGIN:VCALENDAR
VERSION:2.0
PRODID:-//Cincinnati Parks Foundation - ECPv6.15.20//NONSGML v1.0//EN
CALSCALE:GREGORIAN
METHOD:PUBLISH
X-ORIGINAL-URL:https://cincinnatiparksfoundation.org
X-WR-CALDESC:Events for Cincinnati Parks Foundation
REFRESH-INTERVAL;VALUE=DURATION:PT1H
X-Robots-Tag:noindex
X-PUBLISHED-TTL:PT1H
BEGIN:VTIMEZONE
TZID:UTC
BEGIN:STANDARD
TZOFFSETFROM:+0000
TZOFFSETTO:+0000
TZNAME:UTC
DTSTART:20240101T000000
END:STANDARD
END:VTIMEZONE
BEGIN:VEVENT
DTSTART;TZID=UTC:20250730T183000
DTEND;TZID=UTC:20250730T200000
DTSTAMP:20260424T180751
CREATED:20250527T235903Z
LAST-MODIFIED:20250527T235903Z
UID:5856-1753900200-1753905600@cincinnatiparksfoundation.org
SUMMARY:Play in the Park
DESCRIPTION:Join us in Kenney Heights Park each Wednesday in July for music\, creativity and fun.
URL:https://cincinnatiparksfoundation.org/event/play-in-the-park-6/
LOCATION:Kennedy Heights Park\, 6039 Kennedy Ave\, Cincinnati\, OH\, 45213\, United States
CATEGORIES:CPAC Event,Kennedy Heights Park,music
ORGANIZER;CN="Cincinnati Parks Foundation":MAILTO:colleen@cincinnatiparksfoundation.org
END:VEVENT
BEGIN:VEVENT
DTSTART;TZID=UTC:20250730T183000
DTEND;TZID=UTC:20250730T200000
DTSTAMP:20260424T180751
CREATED:20250527T235727Z
LAST-MODIFIED:20250527T235727Z
UID:5854-1753900200-1753905600@cincinnatiparksfoundation.org
SUMMARY:Play in the Park
DESCRIPTION:Join us in Kennedy Heights Park every Wednesday in July for free music\, creativity and fun.
URL:https://cincinnatiparksfoundation.org/event/play-in-the-park-5/
LOCATION:Kennedy Heights Park\, 6039 Kennedy Ave\, Cincinnati\, OH\, 45213\, United States
CATEGORIES:CPAC Event,Kennedy Heights Park,music
ORGANIZER;CN="Cincinnati Parks Foundation":MAILTO:colleen@cincinnatiparksfoundation.org
END:VEVENT
BEGIN:VEVENT
DTSTART;TZID=UTC:20250723T183000
DTEND;TZID=UTC:20250723T200000
DTSTAMP:20260424T180751
CREATED:20250527T235108Z
LAST-MODIFIED:20250527T235108Z
UID:5852-1753295400-1753300800@cincinnatiparksfoundation.org
SUMMARY:Play in the Park
DESCRIPTION:Join us in Kennedy Heights Park every Wednesday in July for free music\, creativity and fun.
URL:https://cincinnatiparksfoundation.org/event/play-in-the-park-4/
LOCATION:Kennedy Heights Park\, 6039 Kennedy Ave\, Cincinnati\, OH\, 45213\, United States
CATEGORIES:CPAC Event,Kennedy Heights Park,music
ORGANIZER;CN="Cincinnati Parks Foundation":MAILTO:colleen@cincinnatiparksfoundation.org
END:VEVENT
BEGIN:VEVENT
DTSTART;TZID=UTC:20250716T183000
DTEND;TZID=UTC:20250716T200000
DTSTAMP:20260424T180751
CREATED:20250527T234953Z
LAST-MODIFIED:20250527T234953Z
UID:5850-1752690600-1752696000@cincinnatiparksfoundation.org
SUMMARY:Play in the Park
DESCRIPTION:Join us in Kennedy Heights Park every Wednesday in July for free music\, creativity and fun.
URL:https://cincinnatiparksfoundation.org/event/play-in-the-park-3/
LOCATION:Kennedy Heights Park\, 6039 Kennedy Ave\, Cincinnati\, OH\, 45213\, United States
CATEGORIES:CPAC Event,Kennedy Heights Park,music
ORGANIZER;CN="Cincinnati Parks Foundation":MAILTO:colleen@cincinnatiparksfoundation.org
END:VEVENT
BEGIN:VEVENT
DTSTART;TZID=UTC:20250709T183000
DTEND;TZID=UTC:20250709T200000
DTSTAMP:20260424T180751
CREATED:20250527T233258Z
LAST-MODIFIED:20250527T233258Z
UID:5848-1752085800-1752091200@cincinnatiparksfoundation.org
SUMMARY:Play in the Park
DESCRIPTION:Join us in Kennedy Heights Park every Wednesday in July for free music\, creativity and fun.
URL:https://cincinnatiparksfoundation.org/event/play-in-the-park-2/
LOCATION:Kennedy Heights Park\, 6039 Kennedy Ave\, Cincinnati\, OH\, 45213\, United States
CATEGORIES:CPAC Event,Kennedy Heights Park,music
END:VEVENT
BEGIN:VEVENT
DTSTART;TZID=UTC:20250702T183000
DTEND;TZID=UTC:20250702T200000
DTSTAMP:20260424T180751
CREATED:20250527T233152Z
LAST-MODIFIED:20250527T233152Z
UID:5844-1751481000-1751486400@cincinnatiparksfoundation.org
SUMMARY:Play in the Park
DESCRIPTION:Join us in Kennedy Heights Park every Wednesday in July for free music\, creativity and fun.
URL:https://cincinnatiparksfoundation.org/event/play-in-the-park/
LOCATION:Kennedy Heights Park\, 6039 Kennedy Ave\, Cincinnati\, OH\, 45213\, United States
CATEGORIES:CPAC Event,Kennedy Heights Park,music
ORGANIZER;CN="Cincinnati Parks Foundation":MAILTO:colleen@cincinnatiparksfoundation.org
END:VEVENT
END:VCALENDAR