BEGIN:VCALENDAR
VERSION:2.0
PRODID:-//Cincinnati Parks Foundation - ECPv6.15.20//NONSGML v1.0//EN
CALSCALE:GREGORIAN
METHOD:PUBLISH
X-ORIGINAL-URL:https://cincinnatiparksfoundation.org
X-WR-CALDESC:Events for Cincinnati Parks Foundation
REFRESH-INTERVAL;VALUE=DURATION:PT1H
X-Robots-Tag:noindex
X-PUBLISHED-TTL:PT1H
BEGIN:VTIMEZONE
TZID:UTC
BEGIN:STANDARD
TZOFFSETFROM:+0000
TZOFFSETTO:+0000
TZNAME:UTC
DTSTART:20240101T000000
END:STANDARD
END:VTIMEZONE
BEGIN:VEVENT
DTSTART;TZID=UTC:20250703T190000
DTEND;TZID=UTC:20250703T220000
DTSTAMP:20260424T200012
CREATED:20250416T043421Z
LAST-MODIFIED:20250416T054613Z
UID:5435-1751569200-1751580000@cincinnatiparksfoundation.org
SUMMARY:Inwood Park Family Picnic with Rozzi Fireworks
DESCRIPTION:​Join the Cincinnati Parks Foundation for an unforgettable evening at the Family Picnic with Rozzi Fireworks on Thursday\, July 3\, 2025\, at Linwood Park. This festive celebration runs from 5:00 PM to 10:00 PM\, offering a perfect blend of family-friendly entertainment and patriotic spirit.​ \nAttendees can enjoy live music performances\, a variety of food trucks\, and engaging activities for children\, including games and face painting. The highlight of the evening will be a spectacular fireworks display by Rozzi’s Famous Fireworks\, renowned for their dazzling pyrotechnic shows.​ \nBring your picnic blankets and lawn chairs to relax and enjoy the festivities with family and friends. Admission is free\, making it an ideal way to kick off your Independence Day celebrations.​
URL:https://cincinnatiparksfoundation.org/event/inwood-park-family-picnic-with-rozzi-fireworks/
LOCATION:Inwood Park\, 2308 Vine St\, Cincinnati\, OH\, 45219\, United States
CATEGORIES:Free Neighborhood Event,Inwood Park
END:VEVENT
END:VCALENDAR