BEGIN:VCALENDAR
VERSION:2.0
PRODID:-//Cincinnati Parks Foundation - ECPv6.15.20//NONSGML v1.0//EN
CALSCALE:GREGORIAN
METHOD:PUBLISH
X-ORIGINAL-URL:https://cincinnatiparksfoundation.org
X-WR-CALDESC:Events for Cincinnati Parks Foundation
REFRESH-INTERVAL;VALUE=DURATION:PT1H
X-Robots-Tag:noindex
X-PUBLISHED-TTL:PT1H
BEGIN:VTIMEZONE
TZID:America/New_York
BEGIN:DAYLIGHT
TZOFFSETFROM:-0500
TZOFFSETTO:-0400
TZNAME:EDT
DTSTART:20240310T070000
END:DAYLIGHT
BEGIN:STANDARD
TZOFFSETFROM:-0400
TZOFFSETTO:-0500
TZNAME:EST
DTSTART:20241103T060000
END:STANDARD
BEGIN:DAYLIGHT
TZOFFSETFROM:-0500
TZOFFSETTO:-0400
TZNAME:EDT
DTSTART:20250309T070000
END:DAYLIGHT
BEGIN:STANDARD
TZOFFSETFROM:-0400
TZOFFSETTO:-0500
TZNAME:EST
DTSTART:20251102T060000
END:STANDARD
BEGIN:DAYLIGHT
TZOFFSETFROM:-0500
TZOFFSETTO:-0400
TZNAME:EDT
DTSTART:20260308T070000
END:DAYLIGHT
BEGIN:STANDARD
TZOFFSETFROM:-0400
TZOFFSETTO:-0500
TZNAME:EST
DTSTART:20261101T060000
END:STANDARD
BEGIN:DAYLIGHT
TZOFFSETFROM:-0500
TZOFFSETTO:-0400
TZNAME:EDT
DTSTART:20270314T070000
END:DAYLIGHT
BEGIN:STANDARD
TZOFFSETFROM:-0400
TZOFFSETTO:-0500
TZNAME:EST
DTSTART:20271107T060000
END:STANDARD
END:VTIMEZONE
BEGIN:VTIMEZONE
TZID:UTC
BEGIN:STANDARD
TZOFFSETFROM:+0000
TZOFFSETTO:+0000
TZNAME:UTC
DTSTART:20240101T000000
END:STANDARD
END:VTIMEZONE
BEGIN:VEVENT
DTSTART;TZID=America/New_York:20260207T100000
DTEND;TZID=America/New_York:20260207T110000
DTSTAMP:20260424T125142
CREATED:20260108T193123Z
LAST-MODIFIED:20260108T194033Z
UID:6443-1770458400-1770462000@cincinnatiparksfoundation.org
SUMMARY:Winter Hiking Series with Cincy Parks
DESCRIPTION:Stanbery Park in winter offers rolling hills\, open skies\, and a chance to connect with nature close to home. ❄️🌾As part of our Cincinnati Parks + Rec for Wellness series\, winter hiking allows us to continue the momentum of last year\, breathe deep\, feel the refreshing cool air\, and explore how conservation and wellness intersect. Join Brendan Bogosian of Cincinnati Parks and Drew Goebel of Cardinal Land Conservancy for a guided winter walk focused on land stewardship and community partnerships. \nBundle up and discover how nature and care for the land come together year-round. \n📍 Stanbery Park — 2221 Oxford Ave\, Cincinnati\, OH 45230Meet in the Main Parking Lot!🗓️ Sat\, Feb 7\, 2026 | ⏰ 10 AM
URL:https://cincinnatiparksfoundation.org/event/winter-hiking-series-with-cincy-parks/
LOCATION:Stanbery Park\, 2221 Oxford Ave\, Cincinnati\, OH\, 45230\, United States
CATEGORIES:Cincinnati Parks + Rec for Wellness,Free Neighborhood Event,Hiking,Stanbery Park
ATTACH;FMTTYPE=image/jpeg:https://cincinnatiparksfoundation.org/wp-content/uploads/2026/01/Winter-Hiking_Event-Graphic_SM.jpg
END:VEVENT
BEGIN:VEVENT
DTSTART;TZID=America/New_York:20260117T100000
DTEND;TZID=America/New_York:20260117T110000
DTSTAMP:20260424T125142
CREATED:20260108T183828Z
LAST-MODIFIED:20260108T193831Z
UID:6434-1768644000-1768647600@cincinnatiparksfoundation.org
SUMMARY:Winter Hiking Series with Friends of French Park
DESCRIPTION:French Park in winter offers wooded hillsides\, open meadows\, and a calm that invites exploration. ❄️🌿As part of our Cincinnati Parks + Rec for Wellness series\, winter hiking allows us to continue the momentum of last year\, breathe deep\, feel the refreshing cool air\, and enjoy movement in nature year-round. Join Scott Puthoff of Friends of French Park for a guided winter walk through this beloved neighborhood park\, learning about the landscape\, seasonal changes\, and the role of community stewardship. \nPull on your boots and enjoy a refreshing winter walk in one of Cincinnati’s classic green spaces. \n📍 French Park — 3012 Section Rd\, Cincinnati\, OH 45237Meet at the Pavilion!🗓️ Saturday\, Jan 17 | ⏰ 10 AM
URL:https://cincinnatiparksfoundation.org/event/winter-hiking-series-with-friends-of-french-park/
LOCATION:French Park\, 3012 Section Road\, Cincinnati\, OH\, 45237\, United States
CATEGORIES:Cincinnati Parks + Rec for Wellness,Free Neighborhood Event,French Park,Hiking
ATTACH;FMTTYPE=image/jpeg:https://cincinnatiparksfoundation.org/wp-content/uploads/2026/01/Winter-Hiking_Event-Graphic_SM.jpg
END:VEVENT
BEGIN:VEVENT
DTSTART;TZID=America/New_York:20260110T100000
DTEND;TZID=America/New_York:20260110T110000
DTSTAMP:20260424T125142
CREATED:20260108T180650Z
LAST-MODIFIED:20260108T193654Z
UID:6427-1768039200-1768042800@cincinnatiparksfoundation.org
SUMMARY:Winter Hiking Series with Explore Nature
DESCRIPTION:LaBoiteaux Woods settles into winter — quiet trails\, bare branches\, and the subtle signs of nature at rest. ❄️🌲As part of our Cincinnati Parks + Rec for Wellness series\, join Explore Nature’s Lara Wardlow\, Naturalist at LaBoiteaux Nature Center\, for a guided winter hike through this hidden gem. Together\, we’ll observe seasonal changes\, look for wildlife tracks\, and enjoy the peaceful rhythm of the woods in winter. \nSlow down\, bundle up\, and explore the beauty of winter in one of Cincinnati’s most serene natural spaces. \n📍 LaBoiteaux Woods Nature Center — 5400 Lanius Ln\, Cincinnati\, OH 45224Meet at the Nature Center!🗓️ Saturday\, Jan 10 | ⏰ 10 AM
URL:https://cincinnatiparksfoundation.org/event/winter-hiking-series-with-explore-nature/
LOCATION:LaBoiteaux Nature Preserve\, 5400 Lanius Ln\, Cincinnati\, 45224\, United States
CATEGORIES:Cincinnati Parks + Rec for Wellness,Hiking,LaBoiteaux
ATTACH;FMTTYPE=image/jpeg:https://cincinnatiparksfoundation.org/wp-content/uploads/2026/01/Winter-Hiking_Event-Graphic_SM.jpg
END:VEVENT
BEGIN:VEVENT
DTSTART;TZID=America/New_York:20251025T100000
DTEND;TZID=America/New_York:20251025T113000
DTSTAMP:20260424T125142
CREATED:20250522T211456Z
LAST-MODIFIED:20250605T223431Z
UID:5818-1761386400-1761391800@cincinnatiparksfoundation.org
SUMMARY:Let's Hike in French Park with Amy Tobin
DESCRIPTION:All are welcome to join Amy Tobin and friends for a hike through French Park\, starting at 10am.  \nThis hike is part of the Cincinnati Parks & Rec for Wellness Program. \nClick here to RSVP: https://www.eventbrite.com/cc/cincinnati-parks-rec-for-wellness-hiking-series-4330483
URL:https://cincinnatiparksfoundation.org/event/lets-hike-in-french-park-with-amy-tobin/
LOCATION:French Park\, 3012 Section Road\, Cincinnati\, OH\, 45237\, United States
CATEGORIES:Amy Tobin,Cincinnati Parks + Rec for Wellness,French Park,Hiking
ATTACH;FMTTYPE=image/jpeg:https://cincinnatiparksfoundation.org/wp-content/uploads/2025/05/1-2-3.jpg
ORGANIZER;CN="Cincinnati Parks Foundation":MAILTO:colleen@cincinnatiparksfoundation.org
END:VEVENT
BEGIN:VEVENT
DTSTART;TZID=UTC:20251018T100000
DTEND;TZID=UTC:20251018T113000
DTSTAMP:20260424T125142
CREATED:20250522T201427Z
LAST-MODIFIED:20250522T201427Z
UID:5802-1760781600-1760787000@cincinnatiparksfoundation.org
SUMMARY:Let's Hike in Mt. Airy with the Osher Center
DESCRIPTION:All are welcome to join team members from the Osher Center for Integrative Health at the University of Cincinnati for a hike through Mt.Airy\, starting at 10am. Meet at the Treehouse!  \nThis hike is part of the Cincinnati Parks & Rec for Wellness Program. \nClick here to RSVP: https://www.eventbrite.com/cc/cincinnati-parks-rec-for-wellness-hiking-series-4330483
URL:https://cincinnatiparksfoundation.org/event/lets-hike-in-mt-airy-with-the-osher-center-2/
LOCATION:Mt. Airy Forest\, 5083 Colerain Ave.\, Cincinnati\, OH\, 45223\, United States
CATEGORIES:Cincinnati Parks + Rec for Wellness,Hiking,Mt. Airy Forest,The Osher Center for Integrative Health at the University of Cincinnati
ATTACH;FMTTYPE=image/jpeg:https://cincinnatiparksfoundation.org/wp-content/uploads/2025/05/5-3.jpg
ORGANIZER;CN="Cincinnati Parks Foundation":MAILTO:colleen@cincinnatiparksfoundation.org
END:VEVENT
BEGIN:VEVENT
DTSTART;TZID=UTC:20251012T100000
DTEND;TZID=UTC:20251012T113000
DTSTAMP:20260424T125142
CREATED:20250512T220906Z
LAST-MODIFIED:20250929T232459Z
UID:5737-1760263200-1760268600@cincinnatiparksfoundation.org
SUMMARY:Hiking in California Woods with Emily Buckley
DESCRIPTION:All are welcome to join Emily Buckley (Get Living Guru) for a hike through California Woods\, starting at 10am. \nThis hike is part of our Cincinnati Parks + Rec for Wellness program. \nClick here to RSVP.
URL:https://cincinnatiparksfoundation.org/event/hiking-in-caldwell-nature-preserve-with-emily-buckley/
LOCATION:Caldwell Nature Preserve\, 430 W North Bend Rd\, Cincinnati\, OH\, 45216\, United States
CATEGORIES:California Woods,Cincinnati Parks + Rec for Wellness,Emily Buckley,Hiking
ORGANIZER;CN="Cincinnati Parks Foundation":MAILTO:colleen@cincinnatiparksfoundation.org
END:VEVENT
BEGIN:VEVENT
DTSTART;TZID=UTC:20251011T100000
DTEND;TZID=UTC:20251011T113000
DTSTAMP:20260424T125142
CREATED:20250429T221711Z
LAST-MODIFIED:20250429T221711Z
UID:5593-1760176800-1760182200@cincinnatiparksfoundation.org
SUMMARY:Hiking in Mt. Storm Park with Cincy Girls Who
DESCRIPTION:All are welcome to join Cincy Girls Who for a hike through Mt. Storm Park\, starting at 10am.  \nThis hiking series is part of Cincinnati Parks & Rec for Wellness.
URL:https://cincinnatiparksfoundation.org/event/hiking-in-mt-storm-park-with-cincy-girls-who/
LOCATION:Mt. Storm Park\, 700 Lafayette Ave\, Cincinnati\, OH\, 45220\, United States
CATEGORIES:Cincy Girls Who,Cincy Parks & Rec for Wellness,Hiking,Mt. Storm Park
ATTACH;FMTTYPE=image/jpeg:https://cincinnatiparksfoundation.org/wp-content/uploads/2025/04/6.jpg
END:VEVENT
BEGIN:VEVENT
DTSTART;TZID=UTC:20250927T100000
DTEND;TZID=UTC:20250927T113000
DTSTAMP:20260424T125142
CREATED:20250522T210942Z
LAST-MODIFIED:20250522T210942Z
UID:5815-1758967200-1758972600@cincinnatiparksfoundation.org
SUMMARY:Let's Hike in Mt Airy Forest with Amy Tobin
DESCRIPTION:All are welcome to join Amy Tobin and friends for a hike through Mt. Airy Forest\, starting at 10am. Meet at the Mt. Airy Arboretum!  \nThis hike is part of the Cincinnati Parks & Rec for Wellness Program. \nClick here to RSVP: https://www.eventbrite.com/cc/cincinnati-parks-rec-for-wellness-hiking-series-4330483
URL:https://cincinnatiparksfoundation.org/event/lets-hike-in-mt-airy-forest-with-amy-tobin/
LOCATION:Mt. Airy Arboretum\, 5190 Arboretun Road\, Cincinnati\, OH\, 45223\, United States
CATEGORIES:Amy Tobin,Cincinnati Parks + Rec for Wellness,Hiking,Mt. Airy Arboretum,Mt. Airy Forest
ATTACH;FMTTYPE=image/jpeg:https://cincinnatiparksfoundation.org/wp-content/uploads/2025/05/2-2-5.jpg
ORGANIZER;CN="Cincinnati Parks Foundation":MAILTO:colleen@cincinnatiparksfoundation.org
END:VEVENT
BEGIN:VEVENT
DTSTART;TZID=UTC:20250920T100000
DTEND;TZID=UTC:20250920T113000
DTSTAMP:20260424T125142
CREATED:20250522T200926Z
LAST-MODIFIED:20250522T200926Z
UID:5800-1758362400-1758367800@cincinnatiparksfoundation.org
SUMMARY:Let's Hike in Ault Park with the Osher Center
DESCRIPTION:All are welcome to join team members from the Osher Center for Integrative Health at the University of Cincinnati for a hike through Ault Park\, starting at 10am. Meet at the flagpole!  \nThis hike is part of the Cincinnati Parks & Rec for Wellness Program. \nClick here to RSVP: https://www.eventbrite.com/cc/cincinnati-parks-rec-for-wellness-hiking-series-4330483
URL:https://cincinnatiparksfoundation.org/event/lets-hike-in-ault-park-with-the-osher-center-2/
LOCATION:Ault Park\, 5090 Observatory Circle\, Cincinnati\, OH\, 45208\, United States
CATEGORIES:Ault Park,Cincinnati Parks + Rec for Wellness,Hiking,The Osher Center for Integrative Health at the University of Cincinnati
ATTACH;FMTTYPE=image/jpeg:https://cincinnatiparksfoundation.org/wp-content/uploads/2025/05/4-1-3.jpg
ORGANIZER;CN="Cincinnati Parks Foundation":MAILTO:colleen@cincinnatiparksfoundation.org
END:VEVENT
BEGIN:VEVENT
DTSTART;TZID=UTC:20250913T100000
DTEND;TZID=UTC:20250913T113000
DTSTAMP:20260424T125142
CREATED:20250429T221346Z
LAST-MODIFIED:20250429T221506Z
UID:5591-1757757600-1757763000@cincinnatiparksfoundation.org
SUMMARY:Hiking in Stanbery Park with Cincy Girls Who
DESCRIPTION:All are welcome to join Cincy Girls Who for a hike through Stanbery Park\, starting at 10am.  \nThis hiking series is part of Cincinnati Parks & Rec for Wellness.
URL:https://cincinnatiparksfoundation.org/event/hiking-in-stanbery-park-with-cincy-girls-who/
LOCATION:OH
CATEGORIES:Cincy Girls Who,Cincy Parks & Rec for Wellness,Hiking,Stanbery Park
ATTACH;FMTTYPE=image/jpeg:https://cincinnatiparksfoundation.org/wp-content/uploads/2025/04/5.jpg
END:VEVENT
BEGIN:VEVENT
DTSTART;TZID=UTC:20250907T100000
DTEND;TZID=UTC:20250907T113000
DTSTAMP:20260424T125142
CREATED:20250512T220336Z
LAST-MODIFIED:20250529T013504Z
UID:5734-1757239200-1757244600@cincinnatiparksfoundation.org
SUMMARY:Hiking in Caldwell Nature Preserve with Emily Buckley
DESCRIPTION:All are welcome to join Emily Buckley (Get Living Guru) in Caldwell Nature Preserve\, starting at 10am.  \nThis hike is part of our Cincinnati Parks + Rec for Wellness program.  \nClick here to RSVP.
URL:https://cincinnatiparksfoundation.org/event/hiking-in-miles-edwards-park-with-emily-buckley/
LOCATION:Miles-Edwards Park\, 4401 Fehr Rd\, Cincinnati\, OH\, 45238\, United States
CATEGORIES:Caldwell Nature Preserve,Cincinnati Parks + Rec for Wellness,Emily Buckley,Hiking,Miles-Edwards Park
ATTACH;FMTTYPE=image/jpeg:https://cincinnatiparksfoundation.org/wp-content/uploads/2025/05/5-1.jpg
ORGANIZER;CN="Cincinnati Parks Foundation":MAILTO:colleen@cincinnatiparksfoundation.org
END:VEVENT
BEGIN:VEVENT
DTSTART;TZID=UTC:20250816T100000
DTEND;TZID=UTC:20250816T113000
DTSTAMP:20260424T125142
CREATED:20250522T200748Z
LAST-MODIFIED:20250522T200748Z
UID:5798-1755338400-1755343800@cincinnatiparksfoundation.org
SUMMARY:Let's Hike in Mt. Airy Forest with the Osher Center
DESCRIPTION:All are welcome to join team members from the Osher Center for Integrative Health at the University of Cincinnati for a hike through Mt. Airy Forest\, starting at 10am. Meet at the Treehouse!  \nThis hike is part of the Cincinnati Parks & Rec for Wellness Program. \nClick here to RSVP: https://www.eventbrite.com/cc/cincinnati-parks-rec-for-wellness-hiking-series-4330483
URL:https://cincinnatiparksfoundation.org/event/lets-hike-in-mt-airy-forest-with-the-osher-center/
LOCATION:Mt. Airy Forest\, 5083 Colerain Ave.\, Cincinnati\, OH\, 45223\, United States
CATEGORIES:Cincinnati Parks + Rec for Wellness,Hiking,Mt. Airy Forest,The Osher Center for Integrative Health at the University of Cincinnati
ATTACH;FMTTYPE=image/jpeg:https://cincinnatiparksfoundation.org/wp-content/uploads/2025/05/3-2-3.jpg
ORGANIZER;CN="Cincinnati Parks Foundation":MAILTO:colleen@cincinnatiparksfoundation.org
END:VEVENT
BEGIN:VEVENT
DTSTART;TZID=UTC:20250809T100000
DTEND;TZID=UTC:20250809T113000
DTSTAMP:20260424T125142
CREATED:20250429T221225Z
LAST-MODIFIED:20250730T190313Z
UID:5588-1754733600-1754739000@cincinnatiparksfoundation.org
SUMMARY:Hiking in Fernbank Park with Cincy Girls Who
DESCRIPTION:All are welcome to join Cincy Girls Who for a hike through Fernbank Park\, starting at 10am.  \nThis hiking series is part of Cincinnati Parks & Rec for Wellness.
URL:https://cincinnatiparksfoundation.org/event/hiking-in-fernbank-with-cincy-girls-who/
LOCATION:Rapid Run\, 4450 Rapid Run Road\, Cincinnati\, OH\, 45205\, United States
CATEGORIES:Cincy Girls Who,Cincy Parks & Rec for Wellness,Hiking
ATTACH;FMTTYPE=image/jpeg:https://cincinnatiparksfoundation.org/wp-content/uploads/2025/04/Lets-hike-with.jpg
ORGANIZER;CN="Cincy Girls Who":MAILTO:info@cincygirlswho.org
END:VEVENT
BEGIN:VEVENT
DTSTART;TZID=UTC:20250803T100000
DTEND;TZID=UTC:20250803T113000
DTSTAMP:20260424T125142
CREATED:20250512T205127Z
LAST-MODIFIED:20250529T013734Z
UID:5732-1754215200-1754220600@cincinnatiparksfoundation.org
SUMMARY:Hiking in Avon Woods with Emily Buckley
DESCRIPTION:All are welcome to join Emily Buckley for a hike through Avon Woods\, starting at 10am.  \nThis hike is part of our Cincinnati Parks & Rec for Wellness Program.  \nClick here to RSVP.
URL:https://cincinnatiparksfoundation.org/event/hiking-in-california-woods-with-emily-buckley/
LOCATION:Avon Woods\, 4235 Paddock Rd\, Cincinnati\, 45229\, United States
CATEGORIES:Avon Woods,Cincinnati Parks + Rec for Wellness,Emily Buckley,Hiking
ORGANIZER;CN="Cincinnati Parks Foundation":MAILTO:colleen@cincinnatiparksfoundation.org
END:VEVENT
BEGIN:VEVENT
DTSTART;TZID=UTC:20250726T100000
DTEND;TZID=UTC:20250726T113000
DTSTAMP:20260424T125142
CREATED:20250522T205249Z
LAST-MODIFIED:20250522T205249Z
UID:5805-1753524000-1753529400@cincinnatiparksfoundation.org
SUMMARY:Let's Hike in Burnet Woods with Amy Tobin
DESCRIPTION:All are welcome to join Amy Tobin and friends for a hike through Burnet Woods\, starting at 10am. Meet at the Trailside Nature Center  \nThis hike is part of the Cincinnati Parks & Rec for Wellness Program. \nClick here to RSVP: https://www.eventbrite.com/cc/cincinnati-parks-rec-for-wellness-hiking-series-4330483
URL:https://cincinnatiparksfoundation.org/event/lets-hike-in-burnet-woods-with-amy-tobin/
LOCATION:Burnet Woods Park\, 3251 Brookline Ave\, Cincinnati\, OH\, 45220\, United States
CATEGORIES:Amy Tobin,Burnet Woods Park,Cincinnati Parks + Rec for Wellness,Hiking
ATTACH;FMTTYPE=image/png:https://cincinnatiparksfoundation.org/wp-content/uploads/2025/05/Screenshot-2025-05-22-at-12.51.38 PM.png
ORGANIZER;CN="Cincinnati Parks Foundation":MAILTO:colleen@cincinnatiparksfoundation.org
END:VEVENT
BEGIN:VEVENT
DTSTART;TZID=UTC:20250719T100000
DTEND;TZID=UTC:20250719T113000
DTSTAMP:20260424T125142
CREATED:20250522T200547Z
LAST-MODIFIED:20250717T144636Z
UID:5794-1752919200-1752924600@cincinnatiparksfoundation.org
SUMMARY:Let's Hike in Ault Park with the Osher Center
DESCRIPTION:All are welcome to join team members from the Osher Center for Integrative Health at the University of Cincinnati for a hike through Ault Park\, starting at 10am. Meet at the Ault Park Pavilion. \nThis hike is part of the Cincinnati Parks & Rec for Wellness Program. \nClick here to RSVP: https://www.eventbrite.com/cc/cincinnati-parks-rec-for-wellness-hiking-series-4330483
URL:https://cincinnatiparksfoundation.org/event/lets-hike-in-ault-park-with-the-osher-center/
LOCATION:Ault Park\, 5090 Observatory Circle\, Cincinnati\, OH\, 45208\, United States
CATEGORIES:Ault Park,Cincinnati Parks + Rec for Wellness,Hiking,The Osher Center for Integrative Health at the University of Cincinnati
ATTACH;FMTTYPE=image/jpeg:https://cincinnatiparksfoundation.org/wp-content/uploads/2025/05/2-2-3.jpg
ORGANIZER;CN="Cincinnati Parks Foundation":MAILTO:colleen@cincinnatiparksfoundation.org
END:VEVENT
BEGIN:VEVENT
DTSTART;TZID=UTC:20250706T100000
DTEND;TZID=UTC:20250706T113000
DTSTAMP:20260424T125142
CREATED:20250512T204336Z
LAST-MODIFIED:20250512T204336Z
UID:5729-1751796000-1751801400@cincinnatiparksfoundation.org
SUMMARY:Hiking in Parker Woods with Emily Buckley
DESCRIPTION:All are welcome to join Emily Buckley (Get Living Guru) for a hike through Parker Woods\, starting at 10am.  \nThis hike is part of our Cincinnati Parks + Rec for Wellness program.
URL:https://cincinnatiparksfoundation.org/event/hiking-in-parker-woods-with-emily-buckley/
LOCATION:Parker Woods\, 1558 Stanford Drive\, Cincinnati\, OH\, 45223\, United States
CATEGORIES:Cincy Parks & Rec for Wellness,Emily Buckley,Hiking,Parker Woods
ATTACH;FMTTYPE=image/jpeg:https://cincinnatiparksfoundation.org/wp-content/uploads/2025/05/3-2-1.jpg
ORGANIZER;CN="Cincinnati Parks Foundation":MAILTO:colleen@cincinnatiparksfoundation.org
END:VEVENT
BEGIN:VEVENT
DTSTART;TZID=UTC:20250621T100000
DTEND;TZID=UTC:20250621T113000
DTSTAMP:20260424T125142
CREATED:20250522T200110Z
LAST-MODIFIED:20250522T200110Z
UID:5792-1750500000-1750505400@cincinnatiparksfoundation.org
SUMMARY:Let's Hike in Mt. Airy with the Osher Center
DESCRIPTION:All are welcome to join team members from the Osher Center for Integrative Health at the University of Cincinnati for a hike through Mt. Airy Forest\, starting at 10am. Meet at the Treehouse!  \nThis hike is part of the Cincinnati Parks & Rec for Wellness Program. \nClick here to RSVP: https://www.eventbrite.com/cc/cincinnati-parks-rec-for-wellness-hiking-series-4330483
URL:https://cincinnatiparksfoundation.org/event/lets-hike-in-mt-airy-with-the-osher-center/
LOCATION:Mt. Airy Forest\, 5083 Colerain Ave.\, Cincinnati\, OH\, 45223\, United States
CATEGORIES:Cincinnati Parks + Rec for Wellness,Cincy Parks & Rec for Wellness,Hiking,Mt. Airy Forest,The Osher Center for Integrative Health at the University of Cincinnati
ATTACH;FMTTYPE=image/png:https://cincinnatiparksfoundation.org/wp-content/uploads/2025/05/Screenshot-2025-05-22-at-11.57.22 AM.png
END:VEVENT
BEGIN:VEVENT
DTSTART;TZID=UTC:20250614T100000
DTEND;TZID=UTC:20250614T113000
DTSTAMP:20260424T125142
CREATED:20250429T220442Z
LAST-MODIFIED:20250429T220442Z
UID:5583-1749895200-1749900600@cincinnatiparksfoundation.org
SUMMARY:Hiking in Burnet Woods with Cincy Girls Who
DESCRIPTION:All are welcome to join Cincy Girls Who for a hike through Burnet Woods\, starting at 10am.  \nThis hiking series is part of Cincinnati Parks & Rec for Wellness.
URL:https://cincinnatiparksfoundation.org/event/hiking-in-burnet-woods-with-cincy-girls-who-2/
LOCATION:Burnet Woods Park\, 3251 Brookline Ave\, Cincinnati\, OH\, 45220\, United States
CATEGORIES:Burnet Woods Park,Cincy Girls Who,Cincy Parks & Rec for Wellness,Hiking
ATTACH;FMTTYPE=image/jpeg:https://cincinnatiparksfoundation.org/wp-content/uploads/2025/04/2-1.jpg
ORGANIZER;CN="Cincy Girls Who":MAILTO:info@cincygirlswho.org
END:VEVENT
BEGIN:VEVENT
DTSTART;TZID=UTC:20250601T100000
DTEND;TZID=UTC:20250601T113000
DTSTAMP:20260424T125142
CREATED:20250512T202534Z
LAST-MODIFIED:20250530T054538Z
UID:5715-1748772000-1748777400@cincinnatiparksfoundation.org
SUMMARY:Hiking in Mt. Airy Forest with Emily Buckley
DESCRIPTION:All are welcome to join Emily Buckley (Get Living Guru) for a hike through Mt. Airy Forest\, starting at 10am.  \nThis hike is part of Cincinnati Parks + Rec for Wellness program.
URL:https://cincinnatiparksfoundation.org/event/hiking-in-fernbank-park-with-emily-buckley/
LOCATION:Miles-Edwards Park\, 4401 Fehr Rd\, Cincinnati\, OH\, 45238\, United States
CATEGORIES:Cincinnati Parks + Rec for Wellness,Cincy Parks & Rec for Wellness,Emily Buckley,Fernbank,Hiking
ORGANIZER;CN="Cincinnati Parks Foundation":MAILTO:colleen@cincinnatiparksfoundation.org
END:VEVENT
BEGIN:VEVENT
DTSTART;TZID=UTC:20250510T100000
DTEND;TZID=UTC:20250510T113000
DTSTAMP:20260424T125142
CREATED:20250429T214024Z
LAST-MODIFIED:20250429T214024Z
UID:5565-1746871200-1746876600@cincinnatiparksfoundation.org
SUMMARY:Hiking in Mt. Airy Forest with Cincy Girls Who
DESCRIPTION:All are welcome to join Cincy Girls Who for a hike through Mt. Airy Forest\, starting at 10am.
URL:https://cincinnatiparksfoundation.org/event/hiking-in-mt-airy-forest-with-cincy-girls-who/
LOCATION:Mt. Airy Forest\, 5083 Colerain Ave.\, Cincinnati\, OH\, 45223\, United States
CATEGORIES:Cincy Girls Who,Cincy Parks & Rec for Wellness,Hiking,Mt. Airy Forest
ATTACH;FMTTYPE=image/jpeg:https://cincinnatiparksfoundation.org/wp-content/uploads/2025/04/1-1.jpg
ORGANIZER;CN="Cincy Girls Who":MAILTO:info@cincygirlswho.org
END:VEVENT
BEGIN:VEVENT
DTSTART;TZID=UTC:20250504T100000
DTEND;TZID=UTC:20250504T113000
DTSTAMP:20260424T125142
CREATED:20250429T223555Z
LAST-MODIFIED:20250429T223555Z
UID:5595-1746352800-1746358200@cincinnatiparksfoundation.org
SUMMARY:Let's Hike with Emily Buckley in Mt. Airy Forest
DESCRIPTION:All are welcome to join Emily Buckley for a hike through Mt. Airy Forest\, starting at 10am.  \nThis hiking series is part of Cincinnati Parks & Rec for Wellness.
URL:https://cincinnatiparksfoundation.org/event/lets-hike-with-emily-buckley-in-mt-airy-forest/
LOCATION:Mt. Airy Forest\, 5083 Colerain Ave.\, Cincinnati\, OH\, 45223\, United States
CATEGORIES:Cincy Parks & Rec for Wellness,Emily Buckley,Hiking,Mt. Airy Forest
ATTACH;FMTTYPE=image/jpeg:https://cincinnatiparksfoundation.org/wp-content/uploads/2025/04/1-1-1.jpg
ORGANIZER;CN="Emily Buckley":MAILTO:emilycbuckley@gmail.com
END:VEVENT
END:VCALENDAR