BEGIN:VCALENDAR
VERSION:2.0
PRODID:-//Cincinnati Parks Foundation - ECPv6.15.20//NONSGML v1.0//EN
CALSCALE:GREGORIAN
METHOD:PUBLISH
X-ORIGINAL-URL:https://cincinnatiparksfoundation.org
X-WR-CALDESC:Events for Cincinnati Parks Foundation
REFRESH-INTERVAL;VALUE=DURATION:PT1H
X-Robots-Tag:noindex
X-PUBLISHED-TTL:PT1H
BEGIN:VTIMEZONE
TZID:America/New_York
BEGIN:DAYLIGHT
TZOFFSETFROM:-0500
TZOFFSETTO:-0400
TZNAME:EDT
DTSTART:20240310T070000
END:DAYLIGHT
BEGIN:STANDARD
TZOFFSETFROM:-0400
TZOFFSETTO:-0500
TZNAME:EST
DTSTART:20241103T060000
END:STANDARD
BEGIN:DAYLIGHT
TZOFFSETFROM:-0500
TZOFFSETTO:-0400
TZNAME:EDT
DTSTART:20250309T070000
END:DAYLIGHT
BEGIN:STANDARD
TZOFFSETFROM:-0400
TZOFFSETTO:-0500
TZNAME:EST
DTSTART:20251102T060000
END:STANDARD
BEGIN:DAYLIGHT
TZOFFSETFROM:-0500
TZOFFSETTO:-0400
TZNAME:EDT
DTSTART:20260308T070000
END:DAYLIGHT
BEGIN:STANDARD
TZOFFSETFROM:-0400
TZOFFSETTO:-0500
TZNAME:EST
DTSTART:20261101T060000
END:STANDARD
BEGIN:DAYLIGHT
TZOFFSETFROM:-0500
TZOFFSETTO:-0400
TZNAME:EDT
DTSTART:20270314T070000
END:DAYLIGHT
BEGIN:STANDARD
TZOFFSETFROM:-0400
TZOFFSETTO:-0500
TZNAME:EST
DTSTART:20271107T060000
END:STANDARD
END:VTIMEZONE
BEGIN:VEVENT
DTSTART;TZID=America/New_York:20260117T100000
DTEND;TZID=America/New_York:20260117T110000
DTSTAMP:20260424T135141
CREATED:20260108T183828Z
LAST-MODIFIED:20260108T193831Z
UID:6434-1768644000-1768647600@cincinnatiparksfoundation.org
SUMMARY:Winter Hiking Series with Friends of French Park
DESCRIPTION:French Park in winter offers wooded hillsides\, open meadows\, and a calm that invites exploration. ❄️🌿As part of our Cincinnati Parks + Rec for Wellness series\, winter hiking allows us to continue the momentum of last year\, breathe deep\, feel the refreshing cool air\, and enjoy movement in nature year-round. Join Scott Puthoff of Friends of French Park for a guided winter walk through this beloved neighborhood park\, learning about the landscape\, seasonal changes\, and the role of community stewardship. \nPull on your boots and enjoy a refreshing winter walk in one of Cincinnati’s classic green spaces. \n📍 French Park — 3012 Section Rd\, Cincinnati\, OH 45237Meet at the Pavilion!🗓️ Saturday\, Jan 17 | ⏰ 10 AM
URL:https://cincinnatiparksfoundation.org/event/winter-hiking-series-with-friends-of-french-park/
LOCATION:French Park\, 3012 Section Road\, Cincinnati\, OH\, 45237\, United States
CATEGORIES:Cincinnati Parks + Rec for Wellness,Free Neighborhood Event,French Park,Hiking
ATTACH;FMTTYPE=image/jpeg:https://cincinnatiparksfoundation.org/wp-content/uploads/2026/01/Winter-Hiking_Event-Graphic_SM.jpg
END:VEVENT
BEGIN:VEVENT
DTSTART;TZID=America/New_York:20251025T100000
DTEND;TZID=America/New_York:20251025T113000
DTSTAMP:20260424T135141
CREATED:20250522T211456Z
LAST-MODIFIED:20250605T223431Z
UID:5818-1761386400-1761391800@cincinnatiparksfoundation.org
SUMMARY:Let's Hike in French Park with Amy Tobin
DESCRIPTION:All are welcome to join Amy Tobin and friends for a hike through French Park\, starting at 10am.  \nThis hike is part of the Cincinnati Parks & Rec for Wellness Program. \nClick here to RSVP: https://www.eventbrite.com/cc/cincinnati-parks-rec-for-wellness-hiking-series-4330483
URL:https://cincinnatiparksfoundation.org/event/lets-hike-in-french-park-with-amy-tobin/
LOCATION:French Park\, 3012 Section Road\, Cincinnati\, OH\, 45237\, United States
CATEGORIES:Amy Tobin,Cincinnati Parks + Rec for Wellness,French Park,Hiking
ATTACH;FMTTYPE=image/jpeg:https://cincinnatiparksfoundation.org/wp-content/uploads/2025/05/1-2-3.jpg
ORGANIZER;CN="Cincinnati Parks Foundation":MAILTO:colleen@cincinnatiparksfoundation.org
END:VEVENT
END:VCALENDAR