BEGIN:VCALENDAR
VERSION:2.0
PRODID:-//Cincinnati Parks Foundation - ECPv6.15.20//NONSGML v1.0//EN
CALSCALE:GREGORIAN
METHOD:PUBLISH
X-WR-CALNAME:Cincinnati Parks Foundation
X-ORIGINAL-URL:https://cincinnatiparksfoundation.org
X-WR-CALDESC:Events for Cincinnati Parks Foundation
REFRESH-INTERVAL;VALUE=DURATION:PT1H
X-Robots-Tag:noindex
X-PUBLISHED-TTL:PT1H
BEGIN:VTIMEZONE
TZID:America/New_York
BEGIN:DAYLIGHT
TZOFFSETFROM:-0500
TZOFFSETTO:-0400
TZNAME:EDT
DTSTART:20240310T070000
END:DAYLIGHT
BEGIN:STANDARD
TZOFFSETFROM:-0400
TZOFFSETTO:-0500
TZNAME:EST
DTSTART:20241103T060000
END:STANDARD
BEGIN:DAYLIGHT
TZOFFSETFROM:-0500
TZOFFSETTO:-0400
TZNAME:EDT
DTSTART:20250309T070000
END:DAYLIGHT
BEGIN:STANDARD
TZOFFSETFROM:-0400
TZOFFSETTO:-0500
TZNAME:EST
DTSTART:20251102T060000
END:STANDARD
BEGIN:DAYLIGHT
TZOFFSETFROM:-0500
TZOFFSETTO:-0400
TZNAME:EDT
DTSTART:20260308T070000
END:DAYLIGHT
BEGIN:STANDARD
TZOFFSETFROM:-0400
TZOFFSETTO:-0500
TZNAME:EST
DTSTART:20261101T060000
END:STANDARD
END:VTIMEZONE
BEGIN:VTIMEZONE
TZID:UTC
BEGIN:STANDARD
TZOFFSETFROM:+0000
TZOFFSETTO:+0000
TZNAME:UTC
DTSTART:20240101T000000
END:STANDARD
END:VTIMEZONE
BEGIN:VEVENT
DTSTART;TZID=America/New_York:20251011T120000
DTEND;TZID=America/New_York:20251011T150000
DTSTAMP:20260424T153856
CREATED:20250625T143337Z
LAST-MODIFIED:20250625T143337Z
UID:6123-1760184000-1760194800@cincinnatiparksfoundation.org
SUMMARY:Ezz Fest
DESCRIPTION:Annual celebration of Ezzard Charles and the West End. Positive Vibes Band\, games\, face painters\, Cincinnati Circus\, bounce house and food.
URL:https://cincinnatiparksfoundation.org/event/ezz-fest/
LOCATION:Ezzard Charles Park\, 500 Ezzard Charles Dr\, Cincinnati\, OH\, 45214\, United States
CATEGORIES:Ezzard Charles Park,Free Neighborhood Event,Kids,music
ATTACH;FMTTYPE=image/jpeg:https://cincinnatiparksfoundation.org/wp-content/uploads/2021/09/Painting-at-Ezz-Fest-in-Laurel-Park-.jpg
END:VEVENT
BEGIN:VEVENT
DTSTART;TZID=America/New_York:20250809T120000
DTEND;TZID=America/New_York:20250809T150000
DTSTAMP:20260424T153856
CREATED:20250629T103256Z
LAST-MODIFIED:20250629T103256Z
UID:6169-1754740800-1754751600@cincinnatiparksfoundation.org
SUMMARY:The West End's Got Talent
DESCRIPTION:A back-to-school party that includes a a talent show\, a backpack giveaway\, free food\, community partners\, and games.
URL:https://cincinnatiparksfoundation.org/event/the-west-ends-got-talent/
LOCATION:Ezzard Charles Park\, 500 Ezzard Charles Dr\, Cincinnati\, OH\, 45214\, United States
CATEGORIES:CPAC Event,Ezzard Charles Park,Free Neighborhood Event
ATTACH;FMTTYPE=image/jpeg:https://cincinnatiparksfoundation.org/wp-content/uploads/2025/06/Ezz-photo-1.jpeg
END:VEVENT
BEGIN:VEVENT
DTSTART;TZID=America/New_York:20250809T120000
DTEND;TZID=America/New_York:20250809T130000
DTSTAMP:20260424T153856
CREATED:20250808T234909Z
LAST-MODIFIED:20250808T234909Z
UID:6237-1754740800-1754744400@cincinnatiparksfoundation.org
SUMMARY:Cincinnati Parks + Rec for Wellness in Ezzard Charles Park: Line Dancing
DESCRIPTION:Join Cincinnati Smooth Hustlers on Saturday\, August 9 for line dancing as part of Cincinnati Parks + Rec for Wellness–and stay for the back to school bash!
URL:https://cincinnatiparksfoundation.org/event/cincinnati-parks-rec-for-wellness-in-ezzard-charles-park-line-dancing/
LOCATION:Ezzard Charles Park\, 500 Ezzard Charles Dr\, Cincinnati\, OH\, 45214\, United States
CATEGORIES:Cincy Parks & Rec for Wellness,Ezzard Charles Park
END:VEVENT
BEGIN:VEVENT
DTSTART;TZID=America/New_York:20250719T130000
DTEND;TZID=America/New_York:20250719T170000
DTSTAMP:20260424T153856
CREATED:20250629T102938Z
LAST-MODIFIED:20250629T102938Z
UID:6165-1752930000-1752944400@cincinnatiparksfoundation.org
SUMMARY:Youth Boxing Competition in Ezzard Charles
DESCRIPTION:Local youth boxing gyms go head-to-head in the ring – In the home park of boxing all-time great Ezzard Charles.
URL:https://cincinnatiparksfoundation.org/event/youth-boxing-competition-in-ezzard-charles/
LOCATION:Ezzard Charles Park\, 500 Ezzard Charles Dr\, Cincinnati\, OH\, 45214\, United States
CATEGORIES:Ezzard Charles Park,Free Neighborhood Event
ATTACH;FMTTYPE=image/jpeg:https://cincinnatiparksfoundation.org/wp-content/uploads/2025/06/IMG_2215-scaled.jpeg
END:VEVENT
BEGIN:VEVENT
DTSTART;TZID=UTC:20250619T100000
DTEND;TZID=UTC:20250619T170000
DTSTAMP:20260424T153856
CREATED:20250416T034547Z
LAST-MODIFIED:20250416T054702Z
UID:5419-1750327200-1750352400@cincinnatiparksfoundation.org
SUMMARY:Ezzard Charles Park Amateur Boxing Show
DESCRIPTION:​The Ezzard Charles Park Advisory Council’s Amateur Boxing Show is an annual community event held in Cincinnati’s West End\, celebrating the legacy of Ezzard Charles—Cincinnati’s own World Heavyweight Boxing Champion. This spirited competition features local youth boxing gyms going head-to-head in the ring\, offering an exciting afternoon of amateur boxing that honors the neighborhood’s rich boxing heritage. Set in Ezzard Charles Park\, the event provides a family-friendly atmosphere with opportunities to cheer on rising talent and engage with the community.
URL:https://cincinnatiparksfoundation.org/event/ezzard-charles-park-amateur-boxing-show/
LOCATION:Ezzard Charles Park\, 500 Ezzard Charles Dr\, Cincinnati\, OH\, 45214\, United States
CATEGORIES:Ezzard Charles Park,Free Neighborhood Event
END:VEVENT
END:VCALENDAR