BEGIN:VCALENDAR
VERSION:2.0
PRODID:-//Cincinnati Parks Foundation - ECPv6.15.20//NONSGML v1.0//EN
CALSCALE:GREGORIAN
METHOD:PUBLISH
X-WR-CALNAME:Cincinnati Parks Foundation
X-ORIGINAL-URL:https://cincinnatiparksfoundation.org
X-WR-CALDESC:Events for Cincinnati Parks Foundation
REFRESH-INTERVAL;VALUE=DURATION:PT1H
X-Robots-Tag:noindex
X-PUBLISHED-TTL:PT1H
BEGIN:VTIMEZONE
TZID:America/New_York
BEGIN:DAYLIGHT
TZOFFSETFROM:-0500
TZOFFSETTO:-0400
TZNAME:EDT
DTSTART:20240310T070000
END:DAYLIGHT
BEGIN:STANDARD
TZOFFSETFROM:-0400
TZOFFSETTO:-0500
TZNAME:EST
DTSTART:20241103T060000
END:STANDARD
BEGIN:DAYLIGHT
TZOFFSETFROM:-0500
TZOFFSETTO:-0400
TZNAME:EDT
DTSTART:20250309T070000
END:DAYLIGHT
BEGIN:STANDARD
TZOFFSETFROM:-0400
TZOFFSETTO:-0500
TZNAME:EST
DTSTART:20251102T060000
END:STANDARD
BEGIN:DAYLIGHT
TZOFFSETFROM:-0500
TZOFFSETTO:-0400
TZNAME:EDT
DTSTART:20260308T070000
END:DAYLIGHT
BEGIN:STANDARD
TZOFFSETFROM:-0400
TZOFFSETTO:-0500
TZNAME:EST
DTSTART:20261101T060000
END:STANDARD
END:VTIMEZONE
BEGIN:VEVENT
DTSTART;TZID=America/New_York:20250713T150000
DTEND;TZID=America/New_York:20250713T160000
DTSTAMP:20260424T150729
CREATED:20250623T193333Z
LAST-MODIFIED:20250623T193333Z
UID:6051-1752418800-1752422400@cincinnatiparksfoundation.org
SUMMARY:Yoga in Tom Jones Commons (Eden Park) with Soaring Soul Wellness
DESCRIPTION:Join us for Weekly Yoga in the Park! \nFlow with us every Sunday from 3-4pm at Tom Jones Commons in Eden Park during a one-hour outdoor yoga class led by Marie Asbury of Soaring Soul Wellness. \nSurrounded by nature and fresh air\, it’s the perfect way to reset your body and mind.  \nAll are welcome—come move with us! \nThis class is part of our Cincinnati Parks + Rec for Wellness program.
URL:https://cincinnatiparksfoundation.org/event/yoga-in-tom-jones-commons-eden-park-with-soaring-soul-wellness-3/
LOCATION:Tom Jones Commons\, Parkside Pl &\, Martin Dr\, Cincinnati\, OH\, 45202\, United States
CATEGORIES:Cincy Parks & Rec for Wellness,Eden Park,Tom Jones Commons,yoga
ATTACH;FMTTYPE=image/png:https://cincinnatiparksfoundation.org/wp-content/uploads/2025/06/Cincinnati-Hiking-Series-scaled.png
END:VEVENT
BEGIN:VEVENT
DTSTART;TZID=America/New_York:20250706T150000
DTEND;TZID=America/New_York:20250706T160000
DTSTAMP:20260424T150729
CREATED:20250623T205520Z
LAST-MODIFIED:20250623T205520Z
UID:6068-1751814000-1751817600@cincinnatiparksfoundation.org
SUMMARY:Yoga in Tom Jones Commons (Eden Park) with Soaring Soul Wellness
DESCRIPTION:Join us for Weekly Yoga in the Park! \nFlow with us every Sunday from 3-4pm at Tom Jones Commons in Eden Park during a one-hour outdoor yoga class led by Marie Asbury of Soaring Soul Wellness. \nSurrounded by nature and fresh air\, it’s the perfect way to reset your body and mind.  \nAll are welcome—come move with us! \nThis class is part of our Cincinnati Parks + Rec for Wellness program.
URL:https://cincinnatiparksfoundation.org/event/yoga-in-tom-jones-commons-eden-park-with-soaring-soul-wellness-11/
LOCATION:Tom Jones Commons\, Parkside Pl &\, Martin Dr\, Cincinnati\, OH\, 45202\, United States
CATEGORIES:Cincinnati Parks + Rec for Wellness,Eden Park,Soaring Soul Wellness,Tom Jones Commons,yoga
ATTACH;FMTTYPE=image/png:https://cincinnatiparksfoundation.org/wp-content/uploads/2025/06/Cincinnati-Hiking-Series-scaled.png
END:VEVENT
BEGIN:VEVENT
DTSTART;TZID=America/New_York:20250706T150000
DTEND;TZID=America/New_York:20250706T160000
DTSTAMP:20260424T150729
CREATED:20250623T193042Z
LAST-MODIFIED:20250623T193042Z
UID:6049-1751814000-1751817600@cincinnatiparksfoundation.org
SUMMARY:Yoga in Tom Jones Commons (Eden Park) with Soaring Soul Wellness
DESCRIPTION:Join us for Weekly Yoga in the Park! \nFlow with us every Sunday from 3-4pm at Tom Jones Commons in Eden Park during a one-hour outdoor yoga class led by Marie Asbury of Soaring Soul Wellness. \nSurrounded by nature and fresh air\, it’s the perfect way to reset your body and mind.  \nAll are welcome—come move with us! \nThis class is part of our Cincinnati Parks + Rec for Wellness program.
URL:https://cincinnatiparksfoundation.org/event/yoga-in-tom-jones-commons-eden-park-with-soaring-soul-wellness-2/
LOCATION:Tom Jones Commons\, Parkside Pl &\, Martin Dr\, Cincinnati\, OH\, 45202\, United States
CATEGORIES:Cincinnati Parks + Rec for Wellness,Eden Park,Souring Soul Wellness,Tom Jones Commons,yoga
ATTACH;FMTTYPE=image/png:https://cincinnatiparksfoundation.org/wp-content/uploads/2025/06/Cincinnati-Hiking-Series-scaled.png
END:VEVENT
BEGIN:VEVENT
DTSTART;TZID=America/New_York:20250629T150000
DTEND;TZID=America/New_York:20250629T160000
DTSTAMP:20260424T150729
CREATED:20250623T192858Z
LAST-MODIFIED:20250623T192858Z
UID:6044-1751209200-1751212800@cincinnatiparksfoundation.org
SUMMARY:Yoga in Tom Jones Commons (Eden Park) with Soaring Soul Wellness
DESCRIPTION:Join us for Weekly Yoga in the Park! \nFlow with us every Sunday from 3-4pm at Tom Jones Commons in Eden Park during a one-hour outdoor yoga class led by Marie Asbury of Soaring Soul Wellness. \nSurrounded by nature and fresh air\, it’s the perfect way to reset your body and mind.  \nAll are welcome—come move with us! \nThis class is part of our Cincinnati Parks + Rec for Wellness program.
URL:https://cincinnatiparksfoundation.org/event/yoga-in-tom-jones-commons-eden-park-with-soaring-soul-wellness/
LOCATION:Tom Jones Commons\, Parkside Pl &\, Martin Dr\, Cincinnati\, OH\, 45202\, United States
CATEGORIES:Cincy Parks & Rec for Wellness,Eden Park,Souring Soul Wellness,Tom Jones Commons,yoga
ATTACH;FMTTYPE=image/png:https://cincinnatiparksfoundation.org/wp-content/uploads/2025/06/Cincinnati-Hiking-Series-scaled.png
END:VEVENT
END:VCALENDAR