BEGIN:VCALENDAR
VERSION:2.0
PRODID:-//Cincinnati Parks Foundation - ECPv6.15.20//NONSGML v1.0//EN
CALSCALE:GREGORIAN
METHOD:PUBLISH
X-WR-CALNAME:Cincinnati Parks Foundation
X-ORIGINAL-URL:https://cincinnatiparksfoundation.org
X-WR-CALDESC:Events for Cincinnati Parks Foundation
REFRESH-INTERVAL;VALUE=DURATION:PT1H
X-Robots-Tag:noindex
X-PUBLISHED-TTL:PT1H
BEGIN:VTIMEZONE
TZID:America/New_York
BEGIN:DAYLIGHT
TZOFFSETFROM:-0500
TZOFFSETTO:-0400
TZNAME:EDT
DTSTART:20240310T070000
END:DAYLIGHT
BEGIN:STANDARD
TZOFFSETFROM:-0400
TZOFFSETTO:-0500
TZNAME:EST
DTSTART:20241103T060000
END:STANDARD
BEGIN:DAYLIGHT
TZOFFSETFROM:-0500
TZOFFSETTO:-0400
TZNAME:EDT
DTSTART:20250309T070000
END:DAYLIGHT
BEGIN:STANDARD
TZOFFSETFROM:-0400
TZOFFSETTO:-0500
TZNAME:EST
DTSTART:20251102T060000
END:STANDARD
BEGIN:DAYLIGHT
TZOFFSETFROM:-0500
TZOFFSETTO:-0400
TZNAME:EDT
DTSTART:20260308T070000
END:DAYLIGHT
BEGIN:STANDARD
TZOFFSETFROM:-0400
TZOFFSETTO:-0500
TZNAME:EST
DTSTART:20261101T060000
END:STANDARD
END:VTIMEZONE
BEGIN:VEVENT
DTSTART;TZID=America/New_York:20251129T100000
DTEND;TZID=America/New_York:20251129T110000
DTSTAMP:20260424T135056
CREATED:20251125T133149Z
LAST-MODIFIED:20251125T134136Z
UID:6401-1764410400-1764414000@cincinnatiparksfoundation.org
SUMMARY:Winter Hiking Series with Sierra Hayden of We Outside
DESCRIPTION:Lace up those boots\, grab your gloves and hat\, and kick off our Winter Hiking Series with We Outside’s own Sierra Hayden! ❄️✨We’re starting strong at Eden Park—one of Cincinnati’s most iconic destinations for winter views and crisp\, fresh air. Whether you’re looking for a slow morning stroll or wanting to stretch your legs after the holiday\, the trails and overlooks are the perfect place to reset. \nThe weather won’t stop us from exploring our 65 miles of trails across the city\, and we’d love for you to join us on the very first step of the season. \n📍 Eden Park\, meet at Twin Lakes\, 900 Eden Park Drive🗓️ Sat\, Nov 29 | ⏰ 10 AM \nBefore the hike\, sign our newsletter on your desktop: Cincinnati Parks + Rec for Wellness – Cincinnati Parks Foundation \n 
URL:https://cincinnatiparksfoundation.org/event/winter-hiking-series-with-sierra-hayden-of-we-outside/
LOCATION:Eden Park Twin Lakes\, 950 Eden Park Dr\, Cincinnati\, 45202\, United States
CATEGORIES:Eden Park,We Outside
END:VEVENT
BEGIN:VEVENT
DTSTART;TZID=America/New_York:20251012T150000
DTEND;TZID=America/New_York:20251012T160000
DTSTAMP:20260424T135056
CREATED:20250623T211134Z
LAST-MODIFIED:20250623T211134Z
UID:6078-1760281200-1760284800@cincinnatiparksfoundation.org
SUMMARY:Yoga in Tom Jones Commons (Eden Park) with Soaring Soul Wellness
DESCRIPTION:Join us for Weekly Yoga in the Park! \nFlow with us every Sunday from 3-4pm at Tom Jones Commons in Eden Park during a one-hour outdoor yoga class led by Marie Asbury of Soaring Soul Wellness. \nSurrounded by nature and fresh air\, it’s the perfect way to reset your body and mind. \nAll are welcome—come move with us! \nThis class is part of our Cincinnati Parks + Rec for Wellness program.
URL:https://cincinnatiparksfoundation.org/event/yoga-in-tom-jones-commons-eden-park-with-soaring-soul-wellness-16/
LOCATION:Tom Jones Commons\, Parkside Pl &\, Martin Dr\, Cincinnati\, OH\, 45202\, United States
CATEGORIES:Cincinnati Parks + Rec for Wellness,Eden Park,Soaring Soul Wellness,Tom Jones Commons,yoga
ATTACH;FMTTYPE=image/png:https://cincinnatiparksfoundation.org/wp-content/uploads/2025/06/Cincinnati-Hiking-Series-scaled.png
END:VEVENT
BEGIN:VEVENT
DTSTART;TZID=America/New_York:20251005T150000
DTEND;TZID=America/New_York:20251005T160000
DTSTAMP:20260424T135056
CREATED:20250623T210840Z
LAST-MODIFIED:20250623T210840Z
UID:6076-1759676400-1759680000@cincinnatiparksfoundation.org
SUMMARY:Yoga in Tom Jones Commons (Eden Park) with Soaring Soul Wellness
DESCRIPTION:Join us for Weekly Yoga in the Park! \nFlow with us every Sunday from 3-4pm at Tom Jones Commons in Eden Park during a one-hour outdoor yoga class led by Marie Asbury of Soaring Soul Wellness. \nSurrounded by nature and fresh air\, it’s the perfect way to reset your body and mind. \nAll are welcome—come move with us! \nThis class is part of our Cincinnati Parks + Rec for Wellness program.
URL:https://cincinnatiparksfoundation.org/event/yoga-in-tom-jones-commons-eden-park-with-soaring-soul-wellness-15/
LOCATION:Tom Jones Commons\, Parkside Pl &\, Martin Dr\, Cincinnati\, OH\, 45202\, United States
CATEGORIES:Cincy Parks & Rec for Wellness,Eden Park,Soaring Soul Wellness,Tom Jones Commons,yoga
ATTACH;FMTTYPE=image/png:https://cincinnatiparksfoundation.org/wp-content/uploads/2025/06/Cincinnati-Hiking-Series-scaled.png
END:VEVENT
BEGIN:VEVENT
DTSTART;TZID=America/New_York:20250928T150000
DTEND;TZID=America/New_York:20250928T160000
DTSTAMP:20260424T135056
CREATED:20250623T210714Z
LAST-MODIFIED:20250623T210714Z
UID:6074-1759071600-1759075200@cincinnatiparksfoundation.org
SUMMARY:Yoga in Tom Jones Commons (Eden Park) with Soaring Soul Wellness
DESCRIPTION:Join us for Weekly Yoga in the Park! \nFlow with us every Sunday from 3-4pm at Tom Jones Commons in Eden Park during a one-hour outdoor yoga class led by Marie Asbury of Soaring Soul Wellness. \nSurrounded by nature and fresh air\, it’s the perfect way to reset your body and mind. \nAll are welcome—come move with us! \nThis class is part of our Cincinnati Parks + Rec for Wellness program.
URL:https://cincinnatiparksfoundation.org/event/yoga-in-tom-jones-commons-eden-park-with-soaring-soul-wellness-14/
LOCATION:Tom Jones Commons\, Parkside Pl &\, Martin Dr\, Cincinnati\, OH\, 45202\, United States
CATEGORIES:Cincinnati Parks + Rec for Wellness,Eden Park,Soaring Soul Wellness,Tom Jones Commons,yoga
ATTACH;FMTTYPE=image/png:https://cincinnatiparksfoundation.org/wp-content/uploads/2025/06/Cincinnati-Hiking-Series-scaled.png
END:VEVENT
BEGIN:VEVENT
DTSTART;TZID=America/New_York:20250914T150000
DTEND;TZID=America/New_York:20250914T160000
DTSTAMP:20260424T135056
CREATED:20250623T210035Z
LAST-MODIFIED:20250623T210035Z
UID:6070-1757862000-1757865600@cincinnatiparksfoundation.org
SUMMARY:Yoga in Tom Jones Commons (Eden Park) with Soaring Soul Wellness
DESCRIPTION:Join us for Weekly Yoga in the Park! \nFlow with us every Sunday from 3-4pm at Tom Jones Commons in Eden Park during a one-hour outdoor yoga class led by Marie Asbury of Soaring Soul Wellness. \nSurrounded by nature and fresh air\, it’s the perfect way to reset your body and mind.  \nAll are welcome—come move with us! \nThis class is part of our Cincinnati Parks + Rec for Wellness program.
URL:https://cincinnatiparksfoundation.org/event/yoga-in-tom-jones-commons-eden-park-with-soaring-soul-wellness-12/
LOCATION:Tom Jones Commons\, Parkside Pl &\, Martin Dr\, Cincinnati\, OH\, 45202\, United States
CATEGORIES:Cincinnati Parks + Rec for Wellness,Eden Park,Soaring Soul Wellness,Tom Jones Commons,yoga
ATTACH;FMTTYPE=image/png:https://cincinnatiparksfoundation.org/wp-content/uploads/2025/06/Cincinnati-Hiking-Series-scaled.png
END:VEVENT
BEGIN:VEVENT
DTSTART;TZID=America/New_York:20250831T150000
DTEND;TZID=America/New_York:20250831T160000
DTSTAMP:20260424T135056
CREATED:20250623T205220Z
LAST-MODIFIED:20250623T205220Z
UID:6066-1756652400-1756656000@cincinnatiparksfoundation.org
SUMMARY:Yoga in Tom Jones Commons (Eden Park) with Soaring Soul Wellness
DESCRIPTION:Join us for Weekly Yoga in the Park! \nFlow with us every Sunday from 3-4pm at Tom Jones Commons in Eden Park during a one-hour outdoor yoga class led by Marie Asbury of Soaring Soul Wellness. \nSurrounded by nature and fresh air\, it’s the perfect way to reset your body and mind.  \nAll are welcome—come move with us! \nThis class is part of our Cincinnati Parks + Rec for Wellness program.
URL:https://cincinnatiparksfoundation.org/event/yoga-in-tom-jones-commons-eden-park-with-soaring-soul-wellness-10/
LOCATION:Tom Jones Commons\, Parkside Pl &\, Martin Dr\, Cincinnati\, OH\, 45202\, United States
CATEGORIES:Cincinnati Parks + Rec for Wellness,Eden Park,Tom Jones Commons,yoga
ATTACH;FMTTYPE=image/png:https://cincinnatiparksfoundation.org/wp-content/uploads/2025/06/Cincinnati-Hiking-Series-scaled.png
END:VEVENT
BEGIN:VEVENT
DTSTART;TZID=America/New_York:20250824T150000
DTEND;TZID=America/New_York:20250824T160000
DTSTAMP:20260424T135056
CREATED:20250623T204830Z
LAST-MODIFIED:20250623T204830Z
UID:6064-1756047600-1756051200@cincinnatiparksfoundation.org
SUMMARY:Yoga in Tom Jones Commons (Eden Park) with Soaring Soul Wellness
DESCRIPTION:Join us for Weekly Yoga in the Park! \nFlow with us every Sunday from 3-4pm at Tom Jones Commons in Eden Park during a one-hour outdoor yoga class led by Marie Asbury of Soaring Soul Wellness. \nSurrounded by nature and fresh air\, it’s the perfect way to reset your body and mind.  \nAll are welcome—come move with us! \nThis class is part of our Cincinnati Parks + Rec for Wellness program.
URL:https://cincinnatiparksfoundation.org/event/yoga-in-tom-jones-commons-eden-park-with-soaring-soul-wellness-9/
LOCATION:Tom Jones Commons\, Parkside Pl &\, Martin Dr\, Cincinnati\, OH\, 45202\, United States
CATEGORIES:Cincinnati Parks + Rec for Wellness,Eden Park,Soaring Soul Wellness,Tom Jones Commons,yoga
ATTACH;FMTTYPE=image/png:https://cincinnatiparksfoundation.org/wp-content/uploads/2025/06/Cincinnati-Hiking-Series-scaled.png
END:VEVENT
BEGIN:VEVENT
DTSTART;TZID=America/New_York:20250817T150000
DTEND;TZID=America/New_York:20250817T160000
DTSTAMP:20260424T135056
CREATED:20250623T204508Z
LAST-MODIFIED:20250623T204508Z
UID:6062-1755442800-1755446400@cincinnatiparksfoundation.org
SUMMARY:Yoga in Tom Jones Commons (Eden Park) with Soaring Soul Wellness
DESCRIPTION:Join us for Weekly Yoga in the Park! \nFlow with us every Sunday from 3-4pm at Tom Jones Commons in Eden Park during a one-hour outdoor yoga class led by Marie Asbury of Soaring Soul Wellness. \nSurrounded by nature and fresh air\, it’s the perfect way to reset your body and mind.  \nAll are welcome—come move with us! \nThis class is part of our Cincinnati Parks + Rec for Wellness program.
URL:https://cincinnatiparksfoundation.org/event/yoga-in-tom-jones-commons-eden-park-with-soaring-soul-wellness-8/
LOCATION:Tom Jones Commons\, Parkside Pl &\, Martin Dr\, Cincinnati\, OH\, 45202\, United States
CATEGORIES:Cincinnati Parks + Rec for Wellness,Eden Park,Soaring Soul Wellness,Tom Jones Commons,yoga
ATTACH;FMTTYPE=image/png:https://cincinnatiparksfoundation.org/wp-content/uploads/2025/06/Cincinnati-Hiking-Series-scaled.png
END:VEVENT
BEGIN:VEVENT
DTSTART;TZID=America/New_York:20250810T150000
DTEND;TZID=America/New_York:20250810T160000
DTSTAMP:20260424T135056
CREATED:20250623T202547Z
LAST-MODIFIED:20250623T202547Z
UID:6059-1754838000-1754841600@cincinnatiparksfoundation.org
SUMMARY:Yoga in Tom Jones Commons (Eden Park) with Soaring Soul Wellness
DESCRIPTION:Join us for Weekly Yoga in the Park! \nFlow with us every Sunday from 3-4pm at Tom Jones Commons in Eden Park during a one-hour outdoor yoga class led by Marie Asbury of Soaring Soul Wellness. \nSurrounded by nature and fresh air\, it’s the perfect way to reset your body and mind.  \nAll are welcome—come move with us! \nThis class is part of our Cincinnati Parks + Rec for Wellness program.
URL:https://cincinnatiparksfoundation.org/event/yoga-in-tom-jones-commons-eden-park-with-soaring-soul-wellness-7/
LOCATION:Tom Jones Commons\, Parkside Pl &\, Martin Dr\, Cincinnati\, OH\, 45202\, United States
CATEGORIES:Cincinnati Parks + Rec for Wellness,Eden Park,Tom Jones Commons,yoga
ATTACH;FMTTYPE=image/png:https://cincinnatiparksfoundation.org/wp-content/uploads/2025/06/Cincinnati-Hiking-Series-scaled.png
END:VEVENT
BEGIN:VEVENT
DTSTART;TZID=America/New_York:20250803T150000
DTEND;TZID=America/New_York:20250803T160000
DTSTAMP:20260424T135056
CREATED:20250623T195346Z
LAST-MODIFIED:20250623T195346Z
UID:6057-1754233200-1754236800@cincinnatiparksfoundation.org
SUMMARY:Yoga in Tom Jones Commons (Eden Park) with Soaring Soul Wellness
DESCRIPTION:Join us for Weekly Yoga in the Park! \nFlow with us every Sunday from 3-4pm at Tom Jones Commons in Eden Park during a one-hour outdoor yoga class led by Marie Asbury of Soaring Soul Wellness. \nSurrounded by nature and fresh air\, it’s the perfect way to reset your body and mind.  \nAll are welcome—come move with us! \nThis class is part of our Cincinnati Parks + Rec for Wellness program.
URL:https://cincinnatiparksfoundation.org/event/yoga-in-tom-jones-commons-eden-park-with-soaring-soul-wellness-6/
LOCATION:Tom Jones Commons\, Parkside Pl &\, Martin Dr\, Cincinnati\, OH\, 45202\, United States
CATEGORIES:Cincinnati Parks + Rec for Wellness,Eden Park,Soaring Soul Wellness,yoga
ATTACH;FMTTYPE=image/png:https://cincinnatiparksfoundation.org/wp-content/uploads/2025/06/Cincinnati-Hiking-Series-scaled.png
END:VEVENT
BEGIN:VEVENT
DTSTART;TZID=America/New_York:20250727T150000
DTEND;TZID=America/New_York:20250727T160000
DTSTAMP:20260424T135056
CREATED:20250623T194051Z
LAST-MODIFIED:20250623T194051Z
UID:6055-1753628400-1753632000@cincinnatiparksfoundation.org
SUMMARY:Yoga in Tom Jones Commons (Eden Park) with Soaring Soul Wellness
DESCRIPTION:Join us for Weekly Yoga in the Park! \nFlow with us every Sunday from 3-4pm at Tom Jones Commons in Eden Park during a one-hour outdoor yoga class led by Marie Asbury of Soaring Soul Wellness. \nSurrounded by nature and fresh air\, it’s the perfect way to reset your body and mind.  \nAll are welcome—come move with us! \nThis class is part of our Cincinnati Parks + Rec for Wellness program.
URL:https://cincinnatiparksfoundation.org/event/yoga-in-tom-jones-commons-eden-park-with-soaring-soul-wellness-5/
LOCATION:Tom Jones Commons\, Parkside Pl &\, Martin Dr\, Cincinnati\, OH\, 45202\, United States
CATEGORIES:Cincinnati Parks + Rec for Wellness,Eden Park,Soaring Soul Wellness
ATTACH;FMTTYPE=image/png:https://cincinnatiparksfoundation.org/wp-content/uploads/2025/06/Cincinnati-Hiking-Series-scaled.png
END:VEVENT
BEGIN:VEVENT
DTSTART;TZID=America/New_York:20250720T150000
DTEND;TZID=America/New_York:20250720T160000
DTSTAMP:20260424T135056
CREATED:20250623T193656Z
LAST-MODIFIED:20250623T193656Z
UID:6053-1753023600-1753027200@cincinnatiparksfoundation.org
SUMMARY:Yoga in Tom Jones Commons (Eden Park) with Soaring Soul Wellness
DESCRIPTION:Join us for Weekly Yoga in the Park! \nFlow with us every Sunday from 3-4pm at Tom Jones Commons in Eden Park during a one-hour outdoor yoga class led by Marie Asbury of Soaring Soul Wellness. \nSurrounded by nature and fresh air\, it’s the perfect way to reset your body and mind.  \nAll are welcome—come move with us! \nThis class is part of our Cincinnati Parks + Rec for Wellness program.
URL:https://cincinnatiparksfoundation.org/event/yoga-in-tom-jones-commons-eden-park-with-soaring-soul-wellness-4/
LOCATION:Tom Jones Commons\, Parkside Pl &\, Martin Dr\, Cincinnati\, OH\, 45202\, United States
CATEGORIES:Cincinnati Parks + Rec for Wellness,Eden Park,Souring Soul Wellness,Tom Jones Commons,yoga
ATTACH;FMTTYPE=image/png:https://cincinnatiparksfoundation.org/wp-content/uploads/2025/06/Cincinnati-Hiking-Series-scaled.png
END:VEVENT
BEGIN:VEVENT
DTSTART;TZID=America/New_York:20250713T150000
DTEND;TZID=America/New_York:20250713T160000
DTSTAMP:20260424T135056
CREATED:20250623T193333Z
LAST-MODIFIED:20250623T193333Z
UID:6051-1752418800-1752422400@cincinnatiparksfoundation.org
SUMMARY:Yoga in Tom Jones Commons (Eden Park) with Soaring Soul Wellness
DESCRIPTION:Join us for Weekly Yoga in the Park! \nFlow with us every Sunday from 3-4pm at Tom Jones Commons in Eden Park during a one-hour outdoor yoga class led by Marie Asbury of Soaring Soul Wellness. \nSurrounded by nature and fresh air\, it’s the perfect way to reset your body and mind.  \nAll are welcome—come move with us! \nThis class is part of our Cincinnati Parks + Rec for Wellness program.
URL:https://cincinnatiparksfoundation.org/event/yoga-in-tom-jones-commons-eden-park-with-soaring-soul-wellness-3/
LOCATION:Tom Jones Commons\, Parkside Pl &\, Martin Dr\, Cincinnati\, OH\, 45202\, United States
CATEGORIES:Cincy Parks & Rec for Wellness,Eden Park,Tom Jones Commons,yoga
ATTACH;FMTTYPE=image/png:https://cincinnatiparksfoundation.org/wp-content/uploads/2025/06/Cincinnati-Hiking-Series-scaled.png
END:VEVENT
BEGIN:VEVENT
DTSTART;TZID=America/New_York:20250706T150000
DTEND;TZID=America/New_York:20250706T160000
DTSTAMP:20260424T135056
CREATED:20250623T205520Z
LAST-MODIFIED:20250623T205520Z
UID:6068-1751814000-1751817600@cincinnatiparksfoundation.org
SUMMARY:Yoga in Tom Jones Commons (Eden Park) with Soaring Soul Wellness
DESCRIPTION:Join us for Weekly Yoga in the Park! \nFlow with us every Sunday from 3-4pm at Tom Jones Commons in Eden Park during a one-hour outdoor yoga class led by Marie Asbury of Soaring Soul Wellness. \nSurrounded by nature and fresh air\, it’s the perfect way to reset your body and mind.  \nAll are welcome—come move with us! \nThis class is part of our Cincinnati Parks + Rec for Wellness program.
URL:https://cincinnatiparksfoundation.org/event/yoga-in-tom-jones-commons-eden-park-with-soaring-soul-wellness-11/
LOCATION:Tom Jones Commons\, Parkside Pl &\, Martin Dr\, Cincinnati\, OH\, 45202\, United States
CATEGORIES:Cincinnati Parks + Rec for Wellness,Eden Park,Soaring Soul Wellness,Tom Jones Commons,yoga
ATTACH;FMTTYPE=image/png:https://cincinnatiparksfoundation.org/wp-content/uploads/2025/06/Cincinnati-Hiking-Series-scaled.png
END:VEVENT
BEGIN:VEVENT
DTSTART;TZID=America/New_York:20250706T150000
DTEND;TZID=America/New_York:20250706T160000
DTSTAMP:20260424T135056
CREATED:20250623T193042Z
LAST-MODIFIED:20250623T193042Z
UID:6049-1751814000-1751817600@cincinnatiparksfoundation.org
SUMMARY:Yoga in Tom Jones Commons (Eden Park) with Soaring Soul Wellness
DESCRIPTION:Join us for Weekly Yoga in the Park! \nFlow with us every Sunday from 3-4pm at Tom Jones Commons in Eden Park during a one-hour outdoor yoga class led by Marie Asbury of Soaring Soul Wellness. \nSurrounded by nature and fresh air\, it’s the perfect way to reset your body and mind.  \nAll are welcome—come move with us! \nThis class is part of our Cincinnati Parks + Rec for Wellness program.
URL:https://cincinnatiparksfoundation.org/event/yoga-in-tom-jones-commons-eden-park-with-soaring-soul-wellness-2/
LOCATION:Tom Jones Commons\, Parkside Pl &\, Martin Dr\, Cincinnati\, OH\, 45202\, United States
CATEGORIES:Cincinnati Parks + Rec for Wellness,Eden Park,Souring Soul Wellness,Tom Jones Commons,yoga
ATTACH;FMTTYPE=image/png:https://cincinnatiparksfoundation.org/wp-content/uploads/2025/06/Cincinnati-Hiking-Series-scaled.png
END:VEVENT
BEGIN:VEVENT
DTSTART;TZID=America/New_York:20250629T150000
DTEND;TZID=America/New_York:20250629T160000
DTSTAMP:20260424T135056
CREATED:20250623T192858Z
LAST-MODIFIED:20250623T192858Z
UID:6044-1751209200-1751212800@cincinnatiparksfoundation.org
SUMMARY:Yoga in Tom Jones Commons (Eden Park) with Soaring Soul Wellness
DESCRIPTION:Join us for Weekly Yoga in the Park! \nFlow with us every Sunday from 3-4pm at Tom Jones Commons in Eden Park during a one-hour outdoor yoga class led by Marie Asbury of Soaring Soul Wellness. \nSurrounded by nature and fresh air\, it’s the perfect way to reset your body and mind.  \nAll are welcome—come move with us! \nThis class is part of our Cincinnati Parks + Rec for Wellness program.
URL:https://cincinnatiparksfoundation.org/event/yoga-in-tom-jones-commons-eden-park-with-soaring-soul-wellness/
LOCATION:Tom Jones Commons\, Parkside Pl &\, Martin Dr\, Cincinnati\, OH\, 45202\, United States
CATEGORIES:Cincy Parks & Rec for Wellness,Eden Park,Souring Soul Wellness,Tom Jones Commons,yoga
ATTACH;FMTTYPE=image/png:https://cincinnatiparksfoundation.org/wp-content/uploads/2025/06/Cincinnati-Hiking-Series-scaled.png
END:VEVENT
END:VCALENDAR