BEGIN:VCALENDAR
VERSION:2.0
PRODID:-//Cincinnati Parks Foundation - ECPv6.15.20//NONSGML v1.0//EN
CALSCALE:GREGORIAN
METHOD:PUBLISH
X-ORIGINAL-URL:https://cincinnatiparksfoundation.org
X-WR-CALDESC:Events for Cincinnati Parks Foundation
REFRESH-INTERVAL;VALUE=DURATION:PT1H
X-Robots-Tag:noindex
X-PUBLISHED-TTL:PT1H
BEGIN:VTIMEZONE
TZID:UTC
BEGIN:STANDARD
TZOFFSETFROM:+0000
TZOFFSETTO:+0000
TZNAME:UTC
DTSTART:20240101T000000
END:STANDARD
END:VTIMEZONE
BEGIN:VEVENT
DTSTART;TZID=UTC:20250605T190000
DTEND;TZID=UTC:20250605T210000
DTSTAMP:20260424T220759
CREATED:20250416T034208Z
LAST-MODIFIED:20250416T055028Z
UID:5414-1749150000-1749157200@cincinnatiparksfoundation.org
SUMMARY:Magical Fireflies at Daniel Drake Park
DESCRIPTION:Experience the enchanting glow of fireflies at Daniel Drake Park during the “Magical Fireflies” event! This family-friendly evening invites nature lovers of all ages to witness the mesmerizing dance of fireflies as they illuminate the park’s serene landscape. Bring a blanket or lawn chair\, relax under the stars\, and immerse yourself in the natural wonder of these luminous insects. Educational activities and guided walks may be available to enhance your understanding of fireflies and their habitat. Don’t forget your flashlight and bug spray!​
URL:https://cincinnatiparksfoundation.org/event/magical-fireflies-at-daniel-drake-park/
LOCATION:Daniel Drake Park\, 5800 Red Bank Rd\, Cincinnati\, OH\, 45213\, United States
CATEGORIES:Daniel Drake Park,Free Neighborhood Event
END:VEVENT
END:VCALENDAR