BEGIN:VCALENDAR
VERSION:2.0
PRODID:-//Cincinnati Parks Foundation - ECPv6.15.20//NONSGML v1.0//EN
CALSCALE:GREGORIAN
METHOD:PUBLISH
X-ORIGINAL-URL:https://cincinnatiparksfoundation.org
X-WR-CALDESC:Events for Cincinnati Parks Foundation
REFRESH-INTERVAL;VALUE=DURATION:PT1H
X-Robots-Tag:noindex
X-PUBLISHED-TTL:PT1H
BEGIN:VTIMEZONE
TZID:UTC
BEGIN:STANDARD
TZOFFSETFROM:+0000
TZOFFSETTO:+0000
TZNAME:UTC
DTSTART:20240101T000000
END:STANDARD
END:VTIMEZONE
BEGIN:VEVENT
DTSTART;TZID=UTC:20250604T180000
DTEND;TZID=UTC:20250604T190000
DTSTAMP:20260424T170044
CREATED:20250515T200219Z
LAST-MODIFIED:20250515T200219Z
UID:5743-1749060000-1749063600@cincinnatiparksfoundation.org
SUMMARY:Smale Mind & Body Yoga
DESCRIPTION:Join us every Wednesday for FREE yoga at the Schmidlapp event lawn at Smale Riverfront Park\, adjacent to the Moerlein Lager House. Event is weather permitting. Yoga sessions run from 6-7pm. \nThis program is funded by the Cincinnati Parks Foundation as part of the Cincinnati Parks & Rec for Wellness program.
URL:https://cincinnatiparksfoundation.org/event/smale-mind-body-yoga/
LOCATION:Schmidlapp Event Lawn\, Smale Riverfront Park\, 124 E Mehring Way\, Cincinnati\, OH\, 45202\, United States
CATEGORIES:Cincy Parks & Rec for Wellness,Schmidlapp Event Lawn,yoga
ATTACH;FMTTYPE=image/jpeg:https://cincinnatiparksfoundation.org/wp-content/uploads/2025/05/Calendar-Smale-Mind-Body-Yoga-2.jpg
END:VEVENT
BEGIN:VEVENT
DTSTART;TZID=UTC:20250601T100000
DTEND;TZID=UTC:20250601T113000
DTSTAMP:20260424T170044
CREATED:20250512T202534Z
LAST-MODIFIED:20250530T054538Z
UID:5715-1748772000-1748777400@cincinnatiparksfoundation.org
SUMMARY:Hiking in Mt. Airy Forest with Emily Buckley
DESCRIPTION:All are welcome to join Emily Buckley (Get Living Guru) for a hike through Mt. Airy Forest\, starting at 10am.  \nThis hike is part of Cincinnati Parks + Rec for Wellness program.
URL:https://cincinnatiparksfoundation.org/event/hiking-in-fernbank-park-with-emily-buckley/
LOCATION:Miles-Edwards Park\, 4401 Fehr Rd\, Cincinnati\, OH\, 45238\, United States
CATEGORIES:Cincinnati Parks + Rec for Wellness,Cincy Parks & Rec for Wellness,Emily Buckley,Fernbank,Hiking
ORGANIZER;CN="Cincinnati Parks Foundation":MAILTO:colleen@cincinnatiparksfoundation.org
END:VEVENT
BEGIN:VEVENT
DTSTART;TZID=UTC:20250510T100000
DTEND;TZID=UTC:20250510T113000
DTSTAMP:20260424T170044
CREATED:20250429T214024Z
LAST-MODIFIED:20250429T214024Z
UID:5565-1746871200-1746876600@cincinnatiparksfoundation.org
SUMMARY:Hiking in Mt. Airy Forest with Cincy Girls Who
DESCRIPTION:All are welcome to join Cincy Girls Who for a hike through Mt. Airy Forest\, starting at 10am.
URL:https://cincinnatiparksfoundation.org/event/hiking-in-mt-airy-forest-with-cincy-girls-who/
LOCATION:Mt. Airy Forest\, 5083 Colerain Ave.\, Cincinnati\, OH\, 45223\, United States
CATEGORIES:Cincy Girls Who,Cincy Parks & Rec for Wellness,Hiking,Mt. Airy Forest
ATTACH;FMTTYPE=image/jpeg:https://cincinnatiparksfoundation.org/wp-content/uploads/2025/04/1-1.jpg
ORGANIZER;CN="Cincy Girls Who":MAILTO:info@cincygirlswho.org
END:VEVENT
BEGIN:VEVENT
DTSTART;TZID=UTC:20250504T100000
DTEND;TZID=UTC:20250504T113000
DTSTAMP:20260424T170044
CREATED:20250429T223555Z
LAST-MODIFIED:20250429T223555Z
UID:5595-1746352800-1746358200@cincinnatiparksfoundation.org
SUMMARY:Let's Hike with Emily Buckley in Mt. Airy Forest
DESCRIPTION:All are welcome to join Emily Buckley for a hike through Mt. Airy Forest\, starting at 10am.  \nThis hiking series is part of Cincinnati Parks & Rec for Wellness.
URL:https://cincinnatiparksfoundation.org/event/lets-hike-with-emily-buckley-in-mt-airy-forest/
LOCATION:Mt. Airy Forest\, 5083 Colerain Ave.\, Cincinnati\, OH\, 45223\, United States
CATEGORIES:Cincy Parks & Rec for Wellness,Emily Buckley,Hiking,Mt. Airy Forest
ATTACH;FMTTYPE=image/jpeg:https://cincinnatiparksfoundation.org/wp-content/uploads/2025/04/1-1-1.jpg
ORGANIZER;CN="Emily Buckley":MAILTO:emilycbuckley@gmail.com
END:VEVENT
END:VCALENDAR