BEGIN:VCALENDAR
VERSION:2.0
PRODID:-//Cincinnati Parks Foundation - ECPv6.15.20//NONSGML v1.0//EN
CALSCALE:GREGORIAN
METHOD:PUBLISH
X-ORIGINAL-URL:https://cincinnatiparksfoundation.org
X-WR-CALDESC:Events for Cincinnati Parks Foundation
REFRESH-INTERVAL;VALUE=DURATION:PT1H
X-Robots-Tag:noindex
X-PUBLISHED-TTL:PT1H
BEGIN:VTIMEZONE
TZID:UTC
BEGIN:STANDARD
TZOFFSETFROM:+0000
TZOFFSETTO:+0000
TZNAME:UTC
DTSTART:20240101T000000
END:STANDARD
END:VTIMEZONE
BEGIN:VTIMEZONE
TZID:America/New_York
BEGIN:DAYLIGHT
TZOFFSETFROM:-0500
TZOFFSETTO:-0400
TZNAME:EDT
DTSTART:20240310T070000
END:DAYLIGHT
BEGIN:STANDARD
TZOFFSETFROM:-0400
TZOFFSETTO:-0500
TZNAME:EST
DTSTART:20241103T060000
END:STANDARD
BEGIN:DAYLIGHT
TZOFFSETFROM:-0500
TZOFFSETTO:-0400
TZNAME:EDT
DTSTART:20250309T070000
END:DAYLIGHT
BEGIN:STANDARD
TZOFFSETFROM:-0400
TZOFFSETTO:-0500
TZNAME:EST
DTSTART:20251102T060000
END:STANDARD
BEGIN:DAYLIGHT
TZOFFSETFROM:-0500
TZOFFSETTO:-0400
TZNAME:EDT
DTSTART:20260308T070000
END:DAYLIGHT
BEGIN:STANDARD
TZOFFSETFROM:-0400
TZOFFSETTO:-0500
TZNAME:EST
DTSTART:20261101T060000
END:STANDARD
END:VTIMEZONE
BEGIN:VEVENT
DTSTART;TZID=UTC:20250712T100000
DTEND;TZID=UTC:20250712T113000
DTSTAMP:20260424T154022
CREATED:20250429T220704Z
LAST-MODIFIED:20250710T225332Z
UID:5585-1752314400-1752319800@cincinnatiparksfoundation.org
SUMMARY:Hiking in French Park with Cincy Girls Who
DESCRIPTION:All are welcome to join Cincy Girls Who for a hike through French Park\, starting at 10am.  \nThis hiking series is part of Cincinnati Parks & Rec for Wellness.
URL:https://cincinnatiparksfoundation.org/event/hiking-in-french-park-with-cincy-girls-who/
LOCATION:French Park\, 3012 Section Road\, Cincinnati\, OH\, 45237\, United States
CATEGORIES:Cincy Parks & Rec for Wellness
ORGANIZER;CN="Cincy Girls Who":MAILTO:info@cincygirlswho.org
END:VEVENT
BEGIN:VEVENT
DTSTART;TZID=UTC:20250706T100000
DTEND;TZID=UTC:20250706T113000
DTSTAMP:20260424T154022
CREATED:20250512T204336Z
LAST-MODIFIED:20250512T204336Z
UID:5729-1751796000-1751801400@cincinnatiparksfoundation.org
SUMMARY:Hiking in Parker Woods with Emily Buckley
DESCRIPTION:All are welcome to join Emily Buckley (Get Living Guru) for a hike through Parker Woods\, starting at 10am.  \nThis hike is part of our Cincinnati Parks + Rec for Wellness program.
URL:https://cincinnatiparksfoundation.org/event/hiking-in-parker-woods-with-emily-buckley/
LOCATION:Parker Woods\, 1558 Stanford Drive\, Cincinnati\, OH\, 45223\, United States
CATEGORIES:Cincy Parks & Rec for Wellness,Emily Buckley,Hiking,Parker Woods
ATTACH;FMTTYPE=image/jpeg:https://cincinnatiparksfoundation.org/wp-content/uploads/2025/05/3-2-1.jpg
ORGANIZER;CN="Cincinnati Parks Foundation":MAILTO:colleen@cincinnatiparksfoundation.org
END:VEVENT
BEGIN:VEVENT
DTSTART;TZID=America/New_York:20250629T150000
DTEND;TZID=America/New_York:20250629T160000
DTSTAMP:20260424T154022
CREATED:20250623T192858Z
LAST-MODIFIED:20250623T192858Z
UID:6044-1751209200-1751212800@cincinnatiparksfoundation.org
SUMMARY:Yoga in Tom Jones Commons (Eden Park) with Soaring Soul Wellness
DESCRIPTION:Join us for Weekly Yoga in the Park! \nFlow with us every Sunday from 3-4pm at Tom Jones Commons in Eden Park during a one-hour outdoor yoga class led by Marie Asbury of Soaring Soul Wellness. \nSurrounded by nature and fresh air\, it’s the perfect way to reset your body and mind.  \nAll are welcome—come move with us! \nThis class is part of our Cincinnati Parks + Rec for Wellness program.
URL:https://cincinnatiparksfoundation.org/event/yoga-in-tom-jones-commons-eden-park-with-soaring-soul-wellness/
LOCATION:Tom Jones Commons\, Parkside Pl &\, Martin Dr\, Cincinnati\, OH\, 45202\, United States
CATEGORIES:Cincy Parks & Rec for Wellness,Eden Park,Souring Soul Wellness,Tom Jones Commons,yoga
ATTACH;FMTTYPE=image/png:https://cincinnatiparksfoundation.org/wp-content/uploads/2025/06/Cincinnati-Hiking-Series-scaled.png
END:VEVENT
BEGIN:VEVENT
DTSTART;TZID=UTC:20250628T140000
DTEND;TZID=UTC:20250628T150000
DTSTAMP:20260424T154022
CREATED:20250523T231522Z
LAST-MODIFIED:20250523T231522Z
UID:5834-1751119200-1751122800@cincinnatiparksfoundation.org
SUMMARY:Kids Dance with Sara Spurling
DESCRIPTION:2:00 PM  3:00 PM\nAn energizing and engaging weekly class for kids ages 11 and under to practice mindful movement\, self-expression\, and physical language.  Teacher: Sarah Spurling \nWeekly on Sundays from 2-3pm running May 18 through November 2\, 2025  \nat the Sawyer Point Riverfront Rink just between the pickle ball courts and Montgomery Inn. \n925 Riverside Dr. Cincinnati Ohio 45202 \nThis weekly wellness program is FREE thanks to support from Cincinnati Parks\, Cincinnati Parks Foundation\, and Osher Center for Integrative Health as part of Cincy Parks + Rec for Wellness.
URL:https://cincinnatiparksfoundation.org/event/kids-dance-with-sara-spurling-2/
LOCATION:Sawyer Point Riverfront Rink\, 925 Riverside Drive\, Cincinnati\, OH\, 45202\, United States
CATEGORIES:Cincy Parks & Rec for Wellness,dance,Sawyer Point,Skate Downtown Cincy
ATTACH;FMTTYPE=image/jpeg:https://cincinnatiparksfoundation.org/wp-content/uploads/2025/05/KidsDance.jpg
ORGANIZER;CN="Cincinnati Parks Foundation":MAILTO:colleen@cincinnatiparksfoundation.org
END:VEVENT
BEGIN:VEVENT
DTSTART;TZID=UTC:20250625T180000
DTEND;TZID=UTC:20250625T190000
DTSTAMP:20260424T154022
CREATED:20250515T201129Z
LAST-MODIFIED:20250515T201129Z
UID:5750-1750874400-1750878000@cincinnatiparksfoundation.org
SUMMARY:Smale Mind & Body Yoga
DESCRIPTION:Join us every Wednesday for FREE yoga led by instructors at Embra Studios at the Schmidlapp event lawn at Smale Riverfront Park\, adjacent to the Moerlein Lager House. Event is weather permitting. Yoga sessions run from 6-7pm. \nThis program is funded by the Cincinnati Parks Foundation as part of the Cincinnati Parks & Rec for Wellness program.
URL:https://cincinnatiparksfoundation.org/event/smale-mind-body-yoga-4/
LOCATION:Schmidlapp Event Lawn\, Smale Riverfront Park\, 124 E Mehring Way\, Cincinnati\, OH\, 45202\, United States
CATEGORIES:Cincy Parks & Rec for Wellness,Schmidlapp Event Lawn,yoga
ATTACH;FMTTYPE=image/jpeg:https://cincinnatiparksfoundation.org/wp-content/uploads/2025/05/Calendar-Smale-Mind-Body-Yoga-2.jpg
END:VEVENT
BEGIN:VEVENT
DTSTART;TZID=America/New_York:20250624T160000
DTEND;TZID=America/New_York:20250624T170000
DTSTAMP:20260424T154022
CREATED:20250617T205216Z
LAST-MODIFIED:20250617T205216Z
UID:6027-1750780800-1750784400@cincinnatiparksfoundation.org
SUMMARY:Dragon Hunt Kids Yoga at Glenway Park
DESCRIPTION:Adventure awaits! Kids are invited to stretch\, move\, and imagine during Dragon Hunt Kids Yoga at Glenway Park. Hosted in partnership with Price Hill Will and the Wellness Community Action Team\, this playful\, free yoga class is part of our Cincinnati Parks + Rec for Wellness program. Through movement and storytelling\, children build strength\, balance\, and mindfulness—all while having fun outdoors. No registration needed—just bring a mat or towel and get ready for the adventure!
URL:https://cincinnatiparksfoundation.org/event/dragon-hunt-kids-yoga-at-glenway-park/
LOCATION:Glenway Park\, 1153 Considine Avenue\, Cincinnati\, OH\, 45295\, United States
CATEGORIES:Cincy Parks & Rec for Wellness,Glenway Park,Kids,yoga
ATTACH;FMTTYPE=image/gif:https://cincinnatiparksfoundation.org/wp-content/uploads/2025/06/CincyParksAndRec-Wordmark1.9.gif
END:VEVENT
BEGIN:VEVENT
DTSTART;TZID=UTC:20250621T100000
DTEND;TZID=UTC:20250621T113000
DTSTAMP:20260424T154022
CREATED:20250522T200110Z
LAST-MODIFIED:20250522T200110Z
UID:5792-1750500000-1750505400@cincinnatiparksfoundation.org
SUMMARY:Let's Hike in Mt. Airy with the Osher Center
DESCRIPTION:All are welcome to join team members from the Osher Center for Integrative Health at the University of Cincinnati for a hike through Mt. Airy Forest\, starting at 10am. Meet at the Treehouse!  \nThis hike is part of the Cincinnati Parks & Rec for Wellness Program. \nClick here to RSVP: https://www.eventbrite.com/cc/cincinnati-parks-rec-for-wellness-hiking-series-4330483
URL:https://cincinnatiparksfoundation.org/event/lets-hike-in-mt-airy-with-the-osher-center/
LOCATION:Mt. Airy Forest\, 5083 Colerain Ave.\, Cincinnati\, OH\, 45223\, United States
CATEGORIES:Cincinnati Parks + Rec for Wellness,Cincy Parks & Rec for Wellness,Hiking,Mt. Airy Forest,The Osher Center for Integrative Health at the University of Cincinnati
ATTACH;FMTTYPE=image/png:https://cincinnatiparksfoundation.org/wp-content/uploads/2025/05/Screenshot-2025-05-22-at-11.57.22 AM.png
END:VEVENT
BEGIN:VEVENT
DTSTART;TZID=America/New_York:20250618T120000
DTEND;TZID=America/New_York:20250618T130000
DTSTAMP:20260424T154022
CREATED:20250617T183957Z
LAST-MODIFIED:20250617T185025Z
UID:6011-1750248000-1750251600@cincinnatiparksfoundation.org
SUMMARY:Tai Chi in Owl's Nest Park
DESCRIPTION:Join the Osher Center for Integrative Health at the University of Cincinnati for free monthly Tai Chi and mindfulness classes at Owls Nest Park. This all-levels series offers a calming blend of Tai Chi and guided mindfulness to refresh your energy and support well-being. \nThe third Wednesday of the month at 12:00 PM\nwith Jennifer Woods\, certified Tai Chi instructor \nTo sign up: https://www.eventbrite.com/o/cincinnati-parks-foundation-and-cincinnati-parks-105486294161 \nThis program is part of Cincinnati Parks + Rec for Wellness.
URL:https://cincinnatiparksfoundation.org/event/tai-chi-in-owls-nest-park/
LOCATION:Owl’s Nest Park\, 1984 Madison Road\, Cincinnati\, OH\, 45208\, United States
CATEGORIES:Cincy Parks & Rec for Wellness,Owl's Nest Park,Tai Chi,The Osher Center for Integrative Health at the University of Cincinnati
ATTACH;FMTTYPE=image/gif:https://cincinnatiparksfoundation.org/wp-content/uploads/2025/06/CincyParksAndRec-Wordmark1.9.gif
END:VEVENT
BEGIN:VEVENT
DTSTART;TZID=UTC:20250618T080000
DTEND;TZID=UTC:20250618T170000
DTSTAMP:20260424T154022
CREATED:20250515T200646Z
LAST-MODIFIED:20250515T200646Z
UID:5748-1750233600-1750266000@cincinnatiparksfoundation.org
SUMMARY:Smale Mind & Body Yoga
DESCRIPTION:Join us every Wednesday for FREE yoga led by instructors at Embra Studios at the Schmidlapp event lawn at Smale Riverfront Park\, adjacent to the Moerlein Lager House. Event is weather permitting. Yoga sessions run from 6-7pm. \nThis program is funded by the Cincinnati Parks Foundation as part of the Cincinnati Parks & Rec for Wellness program.
URL:https://cincinnatiparksfoundation.org/event/smale-mind-body-yoga-3/
LOCATION:Schmidlapp Event Lawn\, Smale Riverfront Park\, 124 E Mehring Way\, Cincinnati\, OH\, 45202\, United States
CATEGORIES:Cincy Parks & Rec for Wellness,Schmidlapp Event Lawn,yoga
ATTACH;FMTTYPE=image/jpeg:https://cincinnatiparksfoundation.org/wp-content/uploads/2025/05/Calendar-Smale-Mind-Body-Yoga-2.jpg
END:VEVENT
BEGIN:VEVENT
DTSTART;TZID=UTC:20250614T100000
DTEND;TZID=UTC:20250614T113000
DTSTAMP:20260424T154022
CREATED:20250429T220442Z
LAST-MODIFIED:20250429T220442Z
UID:5583-1749895200-1749900600@cincinnatiparksfoundation.org
SUMMARY:Hiking in Burnet Woods with Cincy Girls Who
DESCRIPTION:All are welcome to join Cincy Girls Who for a hike through Burnet Woods\, starting at 10am.  \nThis hiking series is part of Cincinnati Parks & Rec for Wellness.
URL:https://cincinnatiparksfoundation.org/event/hiking-in-burnet-woods-with-cincy-girls-who-2/
LOCATION:Burnet Woods Park\, 3251 Brookline Ave\, Cincinnati\, OH\, 45220\, United States
CATEGORIES:Burnet Woods Park,Cincy Girls Who,Cincy Parks & Rec for Wellness,Hiking
ATTACH;FMTTYPE=image/jpeg:https://cincinnatiparksfoundation.org/wp-content/uploads/2025/04/2-1.jpg
ORGANIZER;CN="Cincy Girls Who":MAILTO:info@cincygirlswho.org
END:VEVENT
BEGIN:VEVENT
DTSTART;TZID=UTC:20250611T180000
DTEND;TZID=UTC:20250611T190000
DTSTAMP:20260424T154022
CREATED:20250515T200521Z
LAST-MODIFIED:20250515T200521Z
UID:5746-1749664800-1749668400@cincinnatiparksfoundation.org
SUMMARY:Smale Mind & Body Yoga
DESCRIPTION:Join us every Wednesday for FREE yoga led by instructors at Embra Studios at the Schmidlapp event lawn at Smale Riverfront Park\, adjacent to the Moerlein Lager House. Event is weather permitting. Yoga sessions run from 6-7pm. \nThis program is funded by the Cincinnati Parks Foundation as part of the Cincinnati Parks & Rec for Wellness program.
URL:https://cincinnatiparksfoundation.org/event/smale-mind-body-yoga-2/
LOCATION:Schmidlapp Event Lawn\, Smale Riverfront Park\, 124 E Mehring Way\, Cincinnati\, OH\, 45202\, United States
CATEGORIES:Cincy Parks & Rec for Wellness,Schmidlapp Event Lawn,yoga
ATTACH;FMTTYPE=image/jpeg:https://cincinnatiparksfoundation.org/wp-content/uploads/2025/05/Calendar-Smale-Mind-Body-Yoga-2.jpg
END:VEVENT
BEGIN:VEVENT
DTSTART;TZID=UTC:20250605T160000
DTEND;TZID=UTC:20250605T170000
DTSTAMP:20260424T154022
CREATED:20250602T202107Z
LAST-MODIFIED:20250602T202107Z
UID:5945-1749139200-1749142800@cincinnatiparksfoundation.org
SUMMARY:Kids Yoga at Glenway Park
DESCRIPTION:Join Price Hill Wellness Community Action Team and Cincinnati Parks Foundation for kids yoga. You’ll go on an imaginative fun yoga journey to find Sapphire the dragon.  \nPerfect for ages 2-7\, but any age is welcome.  \nThis event is part of the ongoing Cincinnati Parks + Rec for Wellness Series. \nRain Location: ARCO\, 3301 Price Ave.
URL:https://cincinnatiparksfoundation.org/event/kids-yoga-at-glenway-park/
LOCATION:Glenway Park\, 1153 Considine Avenue\, Cincinnati\, OH\, 45295\, United States
CATEGORIES:Cincy Parks & Rec for Wellness,Glenway Park,Kids,yoga
ATTACH;FMTTYPE=image/png:https://cincinnatiparksfoundation.org/wp-content/uploads/2025/06/Screenshot-2025-06-02-at-12.18.17 PM.png
END:VEVENT
BEGIN:VEVENT
DTSTART;TZID=UTC:20250604T180000
DTEND;TZID=UTC:20250604T190000
DTSTAMP:20260424T154022
CREATED:20250515T200219Z
LAST-MODIFIED:20250515T200219Z
UID:5743-1749060000-1749063600@cincinnatiparksfoundation.org
SUMMARY:Smale Mind & Body Yoga
DESCRIPTION:Join us every Wednesday for FREE yoga at the Schmidlapp event lawn at Smale Riverfront Park\, adjacent to the Moerlein Lager House. Event is weather permitting. Yoga sessions run from 6-7pm. \nThis program is funded by the Cincinnati Parks Foundation as part of the Cincinnati Parks & Rec for Wellness program.
URL:https://cincinnatiparksfoundation.org/event/smale-mind-body-yoga/
LOCATION:Schmidlapp Event Lawn\, Smale Riverfront Park\, 124 E Mehring Way\, Cincinnati\, OH\, 45202\, United States
CATEGORIES:Cincy Parks & Rec for Wellness,Schmidlapp Event Lawn,yoga
ATTACH;FMTTYPE=image/jpeg:https://cincinnatiparksfoundation.org/wp-content/uploads/2025/05/Calendar-Smale-Mind-Body-Yoga-2.jpg
END:VEVENT
BEGIN:VEVENT
DTSTART;TZID=UTC:20250601T100000
DTEND;TZID=UTC:20250601T113000
DTSTAMP:20260424T154022
CREATED:20250512T202534Z
LAST-MODIFIED:20250530T054538Z
UID:5715-1748772000-1748777400@cincinnatiparksfoundation.org
SUMMARY:Hiking in Mt. Airy Forest with Emily Buckley
DESCRIPTION:All are welcome to join Emily Buckley (Get Living Guru) for a hike through Mt. Airy Forest\, starting at 10am.  \nThis hike is part of Cincinnati Parks + Rec for Wellness program.
URL:https://cincinnatiparksfoundation.org/event/hiking-in-fernbank-park-with-emily-buckley/
LOCATION:Miles-Edwards Park\, 4401 Fehr Rd\, Cincinnati\, OH\, 45238\, United States
CATEGORIES:Cincinnati Parks + Rec for Wellness,Cincy Parks & Rec for Wellness,Emily Buckley,Fernbank,Hiking
ORGANIZER;CN="Cincinnati Parks Foundation":MAILTO:colleen@cincinnatiparksfoundation.org
END:VEVENT
BEGIN:VEVENT
DTSTART;TZID=UTC:20250510T100000
DTEND;TZID=UTC:20250510T113000
DTSTAMP:20260424T154022
CREATED:20250429T214024Z
LAST-MODIFIED:20250429T214024Z
UID:5565-1746871200-1746876600@cincinnatiparksfoundation.org
SUMMARY:Hiking in Mt. Airy Forest with Cincy Girls Who
DESCRIPTION:All are welcome to join Cincy Girls Who for a hike through Mt. Airy Forest\, starting at 10am.
URL:https://cincinnatiparksfoundation.org/event/hiking-in-mt-airy-forest-with-cincy-girls-who/
LOCATION:Mt. Airy Forest\, 5083 Colerain Ave.\, Cincinnati\, OH\, 45223\, United States
CATEGORIES:Cincy Girls Who,Cincy Parks & Rec for Wellness,Hiking,Mt. Airy Forest
ATTACH;FMTTYPE=image/jpeg:https://cincinnatiparksfoundation.org/wp-content/uploads/2025/04/1-1.jpg
ORGANIZER;CN="Cincy Girls Who":MAILTO:info@cincygirlswho.org
END:VEVENT
BEGIN:VEVENT
DTSTART;TZID=UTC:20250504T100000
DTEND;TZID=UTC:20250504T113000
DTSTAMP:20260424T154022
CREATED:20250429T223555Z
LAST-MODIFIED:20250429T223555Z
UID:5595-1746352800-1746358200@cincinnatiparksfoundation.org
SUMMARY:Let's Hike with Emily Buckley in Mt. Airy Forest
DESCRIPTION:All are welcome to join Emily Buckley for a hike through Mt. Airy Forest\, starting at 10am.  \nThis hiking series is part of Cincinnati Parks & Rec for Wellness.
URL:https://cincinnatiparksfoundation.org/event/lets-hike-with-emily-buckley-in-mt-airy-forest/
LOCATION:Mt. Airy Forest\, 5083 Colerain Ave.\, Cincinnati\, OH\, 45223\, United States
CATEGORIES:Cincy Parks & Rec for Wellness,Emily Buckley,Hiking,Mt. Airy Forest
ATTACH;FMTTYPE=image/jpeg:https://cincinnatiparksfoundation.org/wp-content/uploads/2025/04/1-1-1.jpg
ORGANIZER;CN="Emily Buckley":MAILTO:emilycbuckley@gmail.com
END:VEVENT
END:VCALENDAR