BEGIN:VCALENDAR
VERSION:2.0
PRODID:-//Cincinnati Parks Foundation - ECPv6.15.20//NONSGML v1.0//EN
CALSCALE:GREGORIAN
METHOD:PUBLISH
X-ORIGINAL-URL:https://cincinnatiparksfoundation.org
X-WR-CALDESC:Events for Cincinnati Parks Foundation
REFRESH-INTERVAL;VALUE=DURATION:PT1H
X-Robots-Tag:noindex
X-PUBLISHED-TTL:PT1H
BEGIN:VTIMEZONE
TZID:UTC
BEGIN:STANDARD
TZOFFSETFROM:+0000
TZOFFSETTO:+0000
TZNAME:UTC
DTSTART:20240101T000000
END:STANDARD
END:VTIMEZONE
BEGIN:VEVENT
DTSTART;TZID=UTC:20250614T100000
DTEND;TZID=UTC:20250614T113000
DTSTAMP:20260424T140421
CREATED:20250429T220442Z
LAST-MODIFIED:20250429T220442Z
UID:5583-1749895200-1749900600@cincinnatiparksfoundation.org
SUMMARY:Hiking in Burnet Woods with Cincy Girls Who
DESCRIPTION:All are welcome to join Cincy Girls Who for a hike through Burnet Woods\, starting at 10am.  \nThis hiking series is part of Cincinnati Parks & Rec for Wellness.
URL:https://cincinnatiparksfoundation.org/event/hiking-in-burnet-woods-with-cincy-girls-who-2/
LOCATION:Burnet Woods Park\, 3251 Brookline Ave\, Cincinnati\, OH\, 45220\, United States
CATEGORIES:Burnet Woods Park,Cincy Girls Who,Cincy Parks & Rec for Wellness,Hiking
ATTACH;FMTTYPE=image/jpeg:https://cincinnatiparksfoundation.org/wp-content/uploads/2025/04/2-1.jpg
ORGANIZER;CN="Cincy Girls Who":MAILTO:info@cincygirlswho.org
END:VEVENT
BEGIN:VEVENT
DTSTART;TZID=UTC:20250611T190000
DTEND;TZID=UTC:20250611T210000
DTSTAMP:20260424T140421
CREATED:20250528T001137Z
LAST-MODIFIED:20250528T001137Z
UID:5866-1749668400-1749675600@cincinnatiparksfoundation.org
SUMMARY:Wednesdays in the Woods
DESCRIPTION:Join us every Wednesday (May 28-August 6) from 7:00 PM- 9:00 PM in Burnet Woods for Wednesday in the Woods\, featuring live musical performers\, games\, free art activities\, food trucks and more.
URL:https://cincinnatiparksfoundation.org/event/wednesdays-in-the-woods-4/
LOCATION:Burnet Woods Park\, 3251 Brookline Ave\, Cincinnati\, OH\, 45220\, United States
CATEGORIES:Burnet Woods Park
ATTACH;FMTTYPE=image/png:https://cincinnatiparksfoundation.org/wp-content/uploads/2025/05/Screenshot-2025-05-27-at-4.04.24 PM.png
END:VEVENT
BEGIN:VEVENT
DTSTART;TZID=UTC:20250611T190000
DTEND;TZID=UTC:20250611T210000
DTSTAMP:20260424T140421
CREATED:20250528T001030Z
LAST-MODIFIED:20250528T001030Z
UID:5864-1749668400-1749675600@cincinnatiparksfoundation.org
SUMMARY:Wednesdays in the Woods
DESCRIPTION:Join us every Wednesday (May 28-August 6) from 7:00 PM- 9:00 PM in Burnet Woods for Wednesday in the Woods\, featuring live musical performers\, games\, free art activities\, food trucks and more.
URL:https://cincinnatiparksfoundation.org/event/wednesdays-in-the-woods-3/
LOCATION:Burnet Woods Park\, 3251 Brookline Ave\, Cincinnati\, OH\, 45220\, United States
CATEGORIES:Burnet Woods Park
ATTACH;FMTTYPE=image/png:https://cincinnatiparksfoundation.org/wp-content/uploads/2025/05/Screenshot-2025-05-27-at-4.04.24 PM.png
END:VEVENT
BEGIN:VEVENT
DTSTART;TZID=UTC:20250604T190000
DTEND;TZID=UTC:20250604T210000
DTSTAMP:20260424T140421
CREATED:20250528T000929Z
LAST-MODIFIED:20250528T000929Z
UID:5862-1749063600-1749070800@cincinnatiparksfoundation.org
SUMMARY:Wednesdays in the Woods
DESCRIPTION:Join us every Wednesday (May 28-August 6) from 7:00 PM- 9:00 PM in Burnet Woods for Wednesday in the Woods\, featuring live musical performers\, games\, free art activities\, food trucks and more.
URL:https://cincinnatiparksfoundation.org/event/wednesdays-in-the-woods-2/
LOCATION:OH
CATEGORIES:Burnet Woods Park
ATTACH;FMTTYPE=image/png:https://cincinnatiparksfoundation.org/wp-content/uploads/2025/05/Screenshot-2025-05-27-at-4.04.24 PM.png
END:VEVENT
BEGIN:VEVENT
DTSTART;TZID=UTC:20250528T190000
DTEND;TZID=UTC:20250528T210000
DTSTAMP:20260424T140421
CREATED:20250528T000831Z
LAST-MODIFIED:20250528T000831Z
UID:5858-1748458800-1748466000@cincinnatiparksfoundation.org
SUMMARY:Wednesdays in the Woods
DESCRIPTION:Join us every Wednesday (May 28-August 6) from 7:00 PM- 9:00 PM in Burnet Woods for Wednesday in the Woods\, featuring live musical performers\, games\, free art activities\, food trucks and more.
URL:https://cincinnatiparksfoundation.org/event/wednesdays-in-the-woods/
LOCATION:Burnet Woods Park\, 3251 Brookline Ave\, Cincinnati\, OH\, 45220\, United States
CATEGORIES:Burnet Woods Park,music
ATTACH;FMTTYPE=image/png:https://cincinnatiparksfoundation.org/wp-content/uploads/2025/05/Screenshot-2025-05-27-at-4.04.24 PM.png
END:VEVENT
END:VCALENDAR