BEGIN:VCALENDAR
VERSION:2.0
PRODID:-//Cincinnati Parks Foundation - ECPv6.15.20//NONSGML v1.0//EN
CALSCALE:GREGORIAN
METHOD:PUBLISH
X-WR-CALNAME:Cincinnati Parks Foundation
X-ORIGINAL-URL:https://cincinnatiparksfoundation.org
X-WR-CALDESC:Events for Cincinnati Parks Foundation
REFRESH-INTERVAL;VALUE=DURATION:PT1H
X-Robots-Tag:noindex
X-PUBLISHED-TTL:PT1H
BEGIN:VTIMEZONE
TZID:America/New_York
BEGIN:DAYLIGHT
TZOFFSETFROM:-0500
TZOFFSETTO:-0400
TZNAME:EDT
DTSTART:20250309T070000
END:DAYLIGHT
BEGIN:STANDARD
TZOFFSETFROM:-0400
TZOFFSETTO:-0500
TZNAME:EST
DTSTART:20251102T060000
END:STANDARD
BEGIN:DAYLIGHT
TZOFFSETFROM:-0500
TZOFFSETTO:-0400
TZNAME:EDT
DTSTART:20260308T070000
END:DAYLIGHT
BEGIN:STANDARD
TZOFFSETFROM:-0400
TZOFFSETTO:-0500
TZNAME:EST
DTSTART:20261101T060000
END:STANDARD
BEGIN:DAYLIGHT
TZOFFSETFROM:-0500
TZOFFSETTO:-0400
TZNAME:EDT
DTSTART:20270314T070000
END:DAYLIGHT
BEGIN:STANDARD
TZOFFSETFROM:-0400
TZOFFSETTO:-0500
TZNAME:EST
DTSTART:20271107T060000
END:STANDARD
END:VTIMEZONE
BEGIN:VTIMEZONE
TZID:UTC
BEGIN:STANDARD
TZOFFSETFROM:+0000
TZOFFSETTO:+0000
TZNAME:UTC
DTSTART:20240101T000000
END:STANDARD
END:VTIMEZONE
BEGIN:VEVENT
DTSTART;TZID=America/New_York:20260124T100000
DTEND;TZID=America/New_York:20260124T110000
DTSTAMP:20260424T125143
CREATED:20260108T185808Z
LAST-MODIFIED:20260108T185808Z
UID:6437-1769248800-1769252400@cincinnatiparksfoundation.org
SUMMARY:Winter Hiking Series with Explore Nature
DESCRIPTION:Burnet Woods in winter reveals a quieter side — historic trees\, winding trails\, and moments of stillness in the heart of the city. ❄️🌳As part of our Cincinnati Parks + Rec for Wellness series\, winter hiking allows us to continue the momentum of last year\, breathe deep\, feel the refreshing cool air\, and create space for reflection and renewal. Join Explore Nature’s\, Michael George\, Naturalist at Trailside Nature Center for a guided winter hike beginning at the Trailside Nature Center\, exploring winter ecology\, urban wildlife\, and one of Cincinnati’s most historic parks. \nLace up and enjoy a midwinter pause surrounded by nature. \n📍 Burnet Woods — 3251 Brookline Ave\, Cincinnati\, OH 45220Meet at the Trailside Nature Center!🗓️ Sat\, Jan 24\, 2026 | ⏰ 10 AM
URL:https://cincinnatiparksfoundation.org/event/winter-hiking-series-with-explore-nature-2/
LOCATION:Burnet Woods Park\, 3251 Brookline Ave\, Cincinnati\, OH\, 45220\, United States
CATEGORIES:Burnet Woods Park,Cincinnati Parks + Rec for Wellness,Free Neighborhood Event
ATTACH;FMTTYPE=image/jpeg:https://cincinnatiparksfoundation.org/wp-content/uploads/2026/01/Winter-Hiking_Event-Graphic_SM.jpg
END:VEVENT
BEGIN:VEVENT
DTSTART;TZID=UTC:20251011T100000
DTEND;TZID=UTC:20251011T170000
DTSTAMP:20260424T125143
CREATED:20250416T053246Z
LAST-MODIFIED:20250416T053246Z
UID:5472-1760176800-1760202000@cincinnatiparksfoundation.org
SUMMARY:Burnet Woods Fall Fest
DESCRIPTION:Celebrate the magic of the season at Burnet Woods Fall Fest! This cozy\, family-friendly event brings the community together to enjoy the crisp autumn air and the natural beauty of the park.
URL:https://cincinnatiparksfoundation.org/event/burnet-woods-fall-fest/
LOCATION:Burnet Woods Park\, 3251 Brookline Ave\, Cincinnati\, OH\, 45220\, United States
CATEGORIES:Burnet Woods Park,Free Neighborhood Event
END:VEVENT
BEGIN:VEVENT
DTSTART;TZID=UTC:20250920T110000
DTEND;TZID=UTC:20250920T150000
DTSTAMP:20260424T125143
CREATED:20250416T052958Z
LAST-MODIFIED:20250416T052958Z
UID:5467-1758366000-1758380400@cincinnatiparksfoundation.org
SUMMARY:International Children's Day
DESCRIPTION:Celebrate the joy\, creativity\, and unity of children from around the world at Burnet Woods International Children’s Day! This vibrant\, family-friendly event brings cultures together through music\, dance\, games\, crafts\, and storytelling. Kids can explore global traditions\, sample international snacks\, and engage in hands-on activities that spark curiosity and connection. Held in the beautiful setting of Burnet Woods\, this event is a celebration of diversity and childhood—reminding us all that play\, learning\, and laughter are universal languages. Free and open to all ages!
URL:https://cincinnatiparksfoundation.org/event/international-childrens-day/
LOCATION:Burnet Woods Park\, 3251 Brookline Ave\, Cincinnati\, OH\, 45220\, United States
CATEGORIES:Burnet Woods Park,Free Neighborhood Event
END:VEVENT
BEGIN:VEVENT
DTSTART;TZID=UTC:20250806T190000
DTEND;TZID=UTC:20250806T210000
DTSTAMP:20260424T125143
CREATED:20250528T002151Z
LAST-MODIFIED:20250528T002151Z
UID:5882-1754506800-1754514000@cincinnatiparksfoundation.org
SUMMARY:Wednesdays in the Woods
DESCRIPTION:Join us every Wednesday (May 28-August 6) from 7:00 PM- 9:00 PM in Burnet Woods for Wednesday in the Woods\, featuring live musical performers\, games\, free art activities\, food trucks and more.
URL:https://cincinnatiparksfoundation.org/event/wednesdays-in-the-woods-12/
LOCATION:Burnet Woods Park\, 3251 Brookline Ave\, Cincinnati\, OH\, 45220\, United States
CATEGORIES:Burnet Woods Park
ATTACH;FMTTYPE=image/png:https://cincinnatiparksfoundation.org/wp-content/uploads/2025/05/Screenshot-2025-05-27-at-4.04.24 PM.png
END:VEVENT
BEGIN:VEVENT
DTSTART;TZID=UTC:20250730T190000
DTEND;TZID=UTC:20250730T210000
DTSTAMP:20260424T125143
CREATED:20250528T002051Z
LAST-MODIFIED:20250528T002051Z
UID:5880-1753902000-1753909200@cincinnatiparksfoundation.org
SUMMARY:Wednesdays in the Woods
DESCRIPTION:Join us every Wednesday (May 28-August 6) from 7:00 PM- 9:00 PM in Burnet Woods for Wednesday in the Woods\, featuring live musical performers\, games\, free art activities\, food trucks and more.
URL:https://cincinnatiparksfoundation.org/event/wednesdays-in-the-woods-11/
LOCATION:Burnet Woods Park\, 3251 Brookline Ave\, Cincinnati\, OH\, 45220\, United States
CATEGORIES:Burnet Woods Park
ATTACH;FMTTYPE=image/png:https://cincinnatiparksfoundation.org/wp-content/uploads/2025/05/Screenshot-2025-05-27-at-4.04.24 PM.png
END:VEVENT
BEGIN:VEVENT
DTSTART;TZID=UTC:20250726T100000
DTEND;TZID=UTC:20250726T113000
DTSTAMP:20260424T125143
CREATED:20250522T205249Z
LAST-MODIFIED:20250522T205249Z
UID:5805-1753524000-1753529400@cincinnatiparksfoundation.org
SUMMARY:Let's Hike in Burnet Woods with Amy Tobin
DESCRIPTION:All are welcome to join Amy Tobin and friends for a hike through Burnet Woods\, starting at 10am. Meet at the Trailside Nature Center  \nThis hike is part of the Cincinnati Parks & Rec for Wellness Program. \nClick here to RSVP: https://www.eventbrite.com/cc/cincinnati-parks-rec-for-wellness-hiking-series-4330483
URL:https://cincinnatiparksfoundation.org/event/lets-hike-in-burnet-woods-with-amy-tobin/
LOCATION:Burnet Woods Park\, 3251 Brookline Ave\, Cincinnati\, OH\, 45220\, United States
CATEGORIES:Amy Tobin,Burnet Woods Park,Cincinnati Parks + Rec for Wellness,Hiking
ATTACH;FMTTYPE=image/png:https://cincinnatiparksfoundation.org/wp-content/uploads/2025/05/Screenshot-2025-05-22-at-12.51.38 PM.png
ORGANIZER;CN="Cincinnati Parks Foundation":MAILTO:colleen@cincinnatiparksfoundation.org
END:VEVENT
BEGIN:VEVENT
DTSTART;TZID=UTC:20250723T190000
DTEND;TZID=UTC:20250723T210000
DTSTAMP:20260424T125143
CREATED:20250528T001949Z
LAST-MODIFIED:20250528T001949Z
UID:5878-1753297200-1753304400@cincinnatiparksfoundation.org
SUMMARY:Wednesdays in the Woods
DESCRIPTION:Join us every Wednesday (May 28-August 6) from 7:00 PM- 9:00 PM in Burnet Woods for Wednesday in the Woods\, featuring live musical performers\, games\, free art activities\, food trucks and more.
URL:https://cincinnatiparksfoundation.org/event/wednesdays-in-the-woods-10/
LOCATION:Burnet Woods Park\, 3251 Brookline Ave\, Cincinnati\, OH\, 45220\, United States
CATEGORIES:Burnet Woods Park
ATTACH;FMTTYPE=image/png:https://cincinnatiparksfoundation.org/wp-content/uploads/2025/05/Screenshot-2025-05-27-at-4.04.24 PM.png
END:VEVENT
BEGIN:VEVENT
DTSTART;TZID=UTC:20250716T190000
DTEND;TZID=UTC:20250716T210000
DTSTAMP:20260424T125143
CREATED:20250528T001839Z
LAST-MODIFIED:20250528T001839Z
UID:5876-1752692400-1752699600@cincinnatiparksfoundation.org
SUMMARY:Wednesdays in the Woods
DESCRIPTION:Join us every Wednesday (May 28-August 6) from 7:00 PM- 9:00 PM in Burnet Woods for Wednesday in the Woods\, featuring live musical performers\, games\, free art activities\, food trucks and more.
URL:https://cincinnatiparksfoundation.org/event/wednesdays-in-the-woods-9/
LOCATION:Burnet Woods Park\, 3251 Brookline Ave\, Cincinnati\, OH\, 45220\, United States
CATEGORIES:Burnet Woods Park
ATTACH;FMTTYPE=image/png:https://cincinnatiparksfoundation.org/wp-content/uploads/2025/05/Screenshot-2025-05-27-at-4.04.24 PM.png
END:VEVENT
BEGIN:VEVENT
DTSTART;TZID=UTC:20250709T190000
DTEND;TZID=UTC:20250709T210000
DTSTAMP:20260424T125143
CREATED:20250528T001736Z
LAST-MODIFIED:20250528T001736Z
UID:5874-1752087600-1752094800@cincinnatiparksfoundation.org
SUMMARY:Wednesdays in the Woods
DESCRIPTION:Join us every Wednesday (May 28-August 6) from 7:00 PM- 9:00 PM in Burnet Woods for Wednesday in the Woods\, featuring live musical performers\, games\, free art activities\, food trucks and more.
URL:https://cincinnatiparksfoundation.org/event/wednesdays-in-the-woods-8/
LOCATION:Burnet Woods Park\, 3251 Brookline Ave\, Cincinnati\, OH\, 45220\, United States
CATEGORIES:Burnet Woods Park
ATTACH;FMTTYPE=image/png:https://cincinnatiparksfoundation.org/wp-content/uploads/2025/05/Screenshot-2025-05-27-at-4.04.24 PM.png
END:VEVENT
BEGIN:VEVENT
DTSTART;TZID=UTC:20250702T190000
DTEND;TZID=UTC:20250702T210000
DTSTAMP:20260424T125143
CREATED:20250528T001628Z
LAST-MODIFIED:20250528T001628Z
UID:5872-1751482800-1751490000@cincinnatiparksfoundation.org
SUMMARY:Wednesdays in the Woods
DESCRIPTION:Join us every Wednesday (May 28-August 6) from 7:00 PM- 9:00 PM in Burnet Woods for Wednesday in the Woods\, featuring live musical performers\, games\, free art activities\, food trucks and more.
URL:https://cincinnatiparksfoundation.org/event/wednesdays-in-the-woods-7/
LOCATION:Burnet Woods Park\, 3251 Brookline Ave\, Cincinnati\, OH\, 45220\, United States
CATEGORIES:Burnet Woods Park
ATTACH;FMTTYPE=image/png:https://cincinnatiparksfoundation.org/wp-content/uploads/2025/05/Screenshot-2025-05-27-at-4.04.24 PM.png
END:VEVENT
BEGIN:VEVENT
DTSTART;TZID=UTC:20250625T190000
DTEND;TZID=UTC:20250625T210000
DTSTAMP:20260424T125143
CREATED:20250528T001520Z
LAST-MODIFIED:20250528T001520Z
UID:5870-1750878000-1750885200@cincinnatiparksfoundation.org
SUMMARY:Wednesdays in the Woods
DESCRIPTION:Join us every Wednesday (May 28-August 6) from 7:00 PM- 9:00 PM in Burnet Woods for Wednesday in the Woods\, featuring live musical performers\, games\, free art activities\, food trucks and more.
URL:https://cincinnatiparksfoundation.org/event/wednesdays-in-the-woods-6/
LOCATION:Burnet Woods Park\, 3251 Brookline Ave\, Cincinnati\, OH\, 45220\, United States
CATEGORIES:Burnet Woods Park
ATTACH;FMTTYPE=image/png:https://cincinnatiparksfoundation.org/wp-content/uploads/2025/05/Screenshot-2025-05-27-at-4.04.24 PM.png
END:VEVENT
BEGIN:VEVENT
DTSTART;TZID=UTC:20250618T190000
DTEND;TZID=UTC:20250618T210000
DTSTAMP:20260424T125143
CREATED:20250528T001239Z
LAST-MODIFIED:20250528T001239Z
UID:5868-1750273200-1750280400@cincinnatiparksfoundation.org
SUMMARY:Wednesdays in the Woods
DESCRIPTION:Join us every Wednesday (May 28-August 6) from 7:00 PM- 9:00 PM in Burnet Woods for Wednesday in the Woods\, featuring live musical performers\, games\, free art activities\, food trucks and more.
URL:https://cincinnatiparksfoundation.org/event/wednesdays-in-the-woods-5/
LOCATION:Burnet Woods Park\, 3251 Brookline Ave\, Cincinnati\, OH\, 45220\, United States
CATEGORIES:Burnet Woods Park
ATTACH;FMTTYPE=image/png:https://cincinnatiparksfoundation.org/wp-content/uploads/2025/05/Screenshot-2025-05-27-at-4.04.24 PM.png
END:VEVENT
BEGIN:VEVENT
DTSTART;TZID=UTC:20250614T100000
DTEND;TZID=UTC:20250614T113000
DTSTAMP:20260424T125143
CREATED:20250429T220442Z
LAST-MODIFIED:20250429T220442Z
UID:5583-1749895200-1749900600@cincinnatiparksfoundation.org
SUMMARY:Hiking in Burnet Woods with Cincy Girls Who
DESCRIPTION:All are welcome to join Cincy Girls Who for a hike through Burnet Woods\, starting at 10am.  \nThis hiking series is part of Cincinnati Parks & Rec for Wellness.
URL:https://cincinnatiparksfoundation.org/event/hiking-in-burnet-woods-with-cincy-girls-who-2/
LOCATION:Burnet Woods Park\, 3251 Brookline Ave\, Cincinnati\, OH\, 45220\, United States
CATEGORIES:Burnet Woods Park,Cincy Girls Who,Cincy Parks & Rec for Wellness,Hiking
ATTACH;FMTTYPE=image/jpeg:https://cincinnatiparksfoundation.org/wp-content/uploads/2025/04/2-1.jpg
ORGANIZER;CN="Cincy Girls Who":MAILTO:info@cincygirlswho.org
END:VEVENT
BEGIN:VEVENT
DTSTART;TZID=UTC:20250611T190000
DTEND;TZID=UTC:20250611T210000
DTSTAMP:20260424T125143
CREATED:20250528T001137Z
LAST-MODIFIED:20250528T001137Z
UID:5866-1749668400-1749675600@cincinnatiparksfoundation.org
SUMMARY:Wednesdays in the Woods
DESCRIPTION:Join us every Wednesday (May 28-August 6) from 7:00 PM- 9:00 PM in Burnet Woods for Wednesday in the Woods\, featuring live musical performers\, games\, free art activities\, food trucks and more.
URL:https://cincinnatiparksfoundation.org/event/wednesdays-in-the-woods-4/
LOCATION:Burnet Woods Park\, 3251 Brookline Ave\, Cincinnati\, OH\, 45220\, United States
CATEGORIES:Burnet Woods Park
ATTACH;FMTTYPE=image/png:https://cincinnatiparksfoundation.org/wp-content/uploads/2025/05/Screenshot-2025-05-27-at-4.04.24 PM.png
END:VEVENT
BEGIN:VEVENT
DTSTART;TZID=UTC:20250611T190000
DTEND;TZID=UTC:20250611T210000
DTSTAMP:20260424T125143
CREATED:20250528T001030Z
LAST-MODIFIED:20250528T001030Z
UID:5864-1749668400-1749675600@cincinnatiparksfoundation.org
SUMMARY:Wednesdays in the Woods
DESCRIPTION:Join us every Wednesday (May 28-August 6) from 7:00 PM- 9:00 PM in Burnet Woods for Wednesday in the Woods\, featuring live musical performers\, games\, free art activities\, food trucks and more.
URL:https://cincinnatiparksfoundation.org/event/wednesdays-in-the-woods-3/
LOCATION:Burnet Woods Park\, 3251 Brookline Ave\, Cincinnati\, OH\, 45220\, United States
CATEGORIES:Burnet Woods Park
ATTACH;FMTTYPE=image/png:https://cincinnatiparksfoundation.org/wp-content/uploads/2025/05/Screenshot-2025-05-27-at-4.04.24 PM.png
END:VEVENT
BEGIN:VEVENT
DTSTART;TZID=UTC:20250604T190000
DTEND;TZID=UTC:20250604T210000
DTSTAMP:20260424T125143
CREATED:20250528T000929Z
LAST-MODIFIED:20250528T000929Z
UID:5862-1749063600-1749070800@cincinnatiparksfoundation.org
SUMMARY:Wednesdays in the Woods
DESCRIPTION:Join us every Wednesday (May 28-August 6) from 7:00 PM- 9:00 PM in Burnet Woods for Wednesday in the Woods\, featuring live musical performers\, games\, free art activities\, food trucks and more.
URL:https://cincinnatiparksfoundation.org/event/wednesdays-in-the-woods-2/
CATEGORIES:Burnet Woods Park
ATTACH;FMTTYPE=image/png:https://cincinnatiparksfoundation.org/wp-content/uploads/2025/05/Screenshot-2025-05-27-at-4.04.24 PM.png
END:VEVENT
BEGIN:VEVENT
DTSTART;TZID=UTC:20250528T190000
DTEND;TZID=UTC:20250528T210000
DTSTAMP:20260424T125143
CREATED:20250528T000831Z
LAST-MODIFIED:20250528T000831Z
UID:5858-1748458800-1748466000@cincinnatiparksfoundation.org
SUMMARY:Wednesdays in the Woods
DESCRIPTION:Join us every Wednesday (May 28-August 6) from 7:00 PM- 9:00 PM in Burnet Woods for Wednesday in the Woods\, featuring live musical performers\, games\, free art activities\, food trucks and more.
URL:https://cincinnatiparksfoundation.org/event/wednesdays-in-the-woods/
LOCATION:Burnet Woods Park\, 3251 Brookline Ave\, Cincinnati\, OH\, 45220\, United States
CATEGORIES:Burnet Woods Park,music
ATTACH;FMTTYPE=image/png:https://cincinnatiparksfoundation.org/wp-content/uploads/2025/05/Screenshot-2025-05-27-at-4.04.24 PM.png
END:VEVENT
END:VCALENDAR