BEGIN:VCALENDAR
VERSION:2.0
PRODID:-//Cincinnati Parks Foundation - ECPv6.15.20//NONSGML v1.0//EN
CALSCALE:GREGORIAN
METHOD:PUBLISH
X-ORIGINAL-URL:https://cincinnatiparksfoundation.org
X-WR-CALDESC:Events for Cincinnati Parks Foundation
REFRESH-INTERVAL;VALUE=DURATION:PT1H
X-Robots-Tag:noindex
X-PUBLISHED-TTL:PT1H
BEGIN:VTIMEZONE
TZID:America/New_York
BEGIN:DAYLIGHT
TZOFFSETFROM:-0500
TZOFFSETTO:-0400
TZNAME:EDT
DTSTART:20240310T070000
END:DAYLIGHT
BEGIN:STANDARD
TZOFFSETFROM:-0400
TZOFFSETTO:-0500
TZNAME:EST
DTSTART:20241103T060000
END:STANDARD
BEGIN:DAYLIGHT
TZOFFSETFROM:-0500
TZOFFSETTO:-0400
TZNAME:EDT
DTSTART:20250309T070000
END:DAYLIGHT
BEGIN:STANDARD
TZOFFSETFROM:-0400
TZOFFSETTO:-0500
TZNAME:EST
DTSTART:20251102T060000
END:STANDARD
BEGIN:DAYLIGHT
TZOFFSETFROM:-0500
TZOFFSETTO:-0400
TZNAME:EDT
DTSTART:20260308T070000
END:DAYLIGHT
BEGIN:STANDARD
TZOFFSETFROM:-0400
TZOFFSETTO:-0500
TZNAME:EST
DTSTART:20261101T060000
END:STANDARD
END:VTIMEZONE
BEGIN:VEVENT
DTSTART;TZID=America/New_York:20250927T100000
DTEND;TZID=America/New_York:20250927T230000
DTSTAMP:20260424T165217
CREATED:20250628T020626Z
LAST-MODIFIED:20250628T020626Z
UID:6152-1758967200-1759014000@cincinnatiparksfoundation.org
SUMMARY:1N5 Mental Health Training at Bettman Nature Center
DESCRIPTION:Join us for free mental health training from 1N5 and learn how to recognize the signs of mental health challenges\, respond with confidence and support your community.\n﻿\nSaturday\, July 12\, 10:00-11:00 AM\nSaturday\, September 27\, 10:00-11:00 AM
URL:https://cincinnatiparksfoundation.org/event/1n5-mental-health-training-at-bettman-nature-center-2/
LOCATION:Bettman Nature Center\, 4 Beech Lane\, Cincinnati\, OH\, 45208\, United States
CATEGORIES:1N5,Bettman Nature Center,Cincinnati Parks + Rec for Wellness,workshops
ATTACH;FMTTYPE=image/png:https://cincinnatiparksfoundation.org/wp-content/uploads/2025/06/Screenshot-2025-06-02-at-12.18.17 PM.png
END:VEVENT
BEGIN:VEVENT
DTSTART;TZID=America/New_York:20250712T100000
DTEND;TZID=America/New_York:20250712T110000
DTSTAMP:20260424T165217
CREATED:20250628T020058Z
LAST-MODIFIED:20250628T020058Z
UID:6148-1752314400-1752318000@cincinnatiparksfoundation.org
SUMMARY:1N5 Mental Health Training at Bettman Nature Center
DESCRIPTION:Join us for free mental health training from 1N5 and learn how to recognize the signs of mental health challenges\, respond with confidence and support your community.\n﻿\nSaturday\, July 12\, 10:00-11:00 AM\nSaturday\, September 27\, 10:00-11:00 AM
URL:https://cincinnatiparksfoundation.org/event/1n5-mental-health-training-at-bettman-nature-center/
LOCATION:Bettman Nature Center\, 4 Beech Lane\, Cincinnati\, OH\, 45208\, United States
CATEGORIES:1N5,Bettman Nature Center,Cincinnati Parks + Rec for Wellness,Mental Health Training,workshops
ATTACH;FMTTYPE=image/png:https://cincinnatiparksfoundation.org/wp-content/uploads/2025/06/Screenshot-2025-06-02-at-12.18.17 PM.png
END:VEVENT
END:VCALENDAR